BEGIN:VCALENDAR
VERSION:2.0
PRODID:https://github.com/derhansen/sf_event_mgt
METHOD:PUBLISH
BEGIN:VEVENT
UID:1443-64@www.bundesakademie.de
CLASS: PUBLIC
SUMMARY:1. Grundlagenmodul
DESCRIPTION:Den ersten Fortbildungstag (22.02.) werden Sie gemeinsam mit Ih
 ren Schulleiter_innen verbringen, die sich bereits am Vortag mit Gesichtsp
 unkten der kulturellen Schulentwicklung auf Leitungsebene beschäftigt hab
 en. Gemeinsam werden Sie dann in das Programm SCHULE:KULTUR! eingeführt u
 nd beschäftigen sich mit den Potentialen Kultureller Bildung. Aus 10 Jahr
 en Praxiserfahrung SCHULE:KULTUR! werden Ihnen anregende Beispiele von kul
 tureller Schulentwicklung vorgestellt. Im Fokus steht ebenso eine intensiv
 e Auseinandersetzung mit Ihrer eigenen Vision von kultureller Schulentwick
 lung.Am zweiten Fortbildungstag (23.02.) laden wir Sie dazu ein, sich mit 
 Gelingensbedingungen Ihrer Zusammenarbeit zu beschäftigen. Die Systeme Sc
 hule und Kultureinrichtung werden gegenübergestellt, um Arbeitsweisen, Mo
 tive und Haltungen zu beleuchten und zu diskutieren. Erfahrene Kulturkoord
 inator_innen und Kulturpartner_innen aus der letzten Laufzeit werden ihre 
 gesammelten Programmerfahrungen mit Ihnen teilen und Sie können im kolleg
 ialen Austausch von den Vorerfahrungen profitieren. Abschließend beschäf
 tigen Sie sich mit der Gestaltung von gelingenden Veränderungsprozessen u
 nd wie die Potentiale Kultureller Bildung dabei unterstützen können.Fall
 s Sie aufgrund einer weiten Anreise eine Vorabübernachtung benötigen, ge
 ben Sie das bitte bei der Anmeldung an. Alle relevanten Vorabinformationen
  zur Veranstaltung und Anreise erhalten Sie per Mail von uns.Bei Rückfrag
 en wenden Sie sich bitte an jacqueline.streit@bundesakademie.de
LOCATION:Gästehaus
DTSTART:20230222T080000Z
DTEND:20230223T153000Z
END:VEVENT
END:VCALENDAR
