BEGIN:VCALENDAR
VERSION:2.0
PRODID:https://github.com/derhansen/sf_event_mgt
METHOD:PUBLISH
BEGIN:VEVENT
UID:1600-64@www.bundesakademie.de
CLASS: PUBLIC
SUMMARY:2. Grundlagenmodul
DESCRIPTION:Zur Stärkung Ihrer Kooperation und kontinuierlichen Weiterentw
 icklung Ihrer gemeinsamen Vorhaben im Rahmen von SCHULE:KULTUR! laden wir 
 Sie am 22.-23.11.23 zum zweiten Grundlagenmodul ein. In der Fortbildung er
 warten Sie u.a. folgende Inhalte:- Einblicke in die Arbeit der Kooperation
 steams- Vertiefung der Rollenklärung und Arbeitsstrukturen- Bewusstmachun
 g und Stärkung des eigenen und gemeinsamen Netzwerks- freie Arbeitsphasen
  im Kooperationsteam zu Ihren gemeinsamen S:K! - VorhabenBei Beratungs- un
 d Austauschbedarf können Sie in den freien Arbeitsphasen sehr gerne die L
 andes- bzw. Regionalkoordinator_innen einbeziehen. Bringen Sie dazu gerne 
 auch Themen zur Fortbildung mit.Gerne nehmen wir auch noch Ihre thematisch
 en Wünsche in unsere Fortbildung auf. Bitte geben Sie diese bei der Anmel
 dung an.Seminarzeiten:22. November 10 Uhr – 23. November 16 UhrBei Frage
 n melden Sie sich gerne bei jacqueline.streit@bundesakademie.de.
LOCATION:Gästehaus
DTSTART:20231122T090000Z
DTEND:20231123T150000Z
END:VEVENT
END:VCALENDAR
