BEGIN:VCALENDAR
VERSION:2.0
PRODID:https://github.com/derhansen/sf_event_mgt
METHOD:PUBLISH
BEGIN:VEVENT
UID:258-64@www.bundesakademie.de
CLASS: PUBLIC
SUMMARY:2. Schulleiterqualifizierung
DESCRIPTION:Um Sie als Schulleiter_innen bei Ihren jeweiligen schulinternen
  Entwicklungsprozessen zu unterstützen, möchten wir Sie herzlich zu der 
 zweiten Schulleiter_innenfortbildung einladen. Die Veranstaltung richtet s
 ich vorrangig an die neuen Schulleiter_innen im Programm, sie ist aber auc
 h geöffnet für Schulleiter_innen aus der ersten Staffel, die durch einen
  Personalwechsel neu im Programm sind oder sich mit den neuen Schulleiter_
 innen vernetzen wollen.Aufgrund der Evaluationsergebnisse und einer Intere
 ssensabfrage bei Ihnen haben wir für die Veranstaltung u.a. folgende Fort
 bildungsbestandteile vorgesehen:Beschäftigung mit den Dimensionen von Sch
 ulentwicklung in Hinblick auf kulturelle SchulentwicklungRolle der SL in H
 inblick auf stärkere Gewinnung des gesamten Kollegiums für das Thema Kul
 turelle Bildung an der SchuleRechtliche Informationen hinsichtlich der Die
 nstleistungsverträge mit Kulturpartner_innen und der Spendenannahme sowie
  Grundlagen der FinanzakquiseVernetzung und Thematisierung von zentralen H
 erausforderungenBeschäftigung mit den Prinzipien Kultureller Bildung, mit
  besonderem Augenmerk auf PartizipationDie Inhalte verstehen sich als Ange
 bote, die von der Bundesakademie verantwortet und in Zusammenarbeit mit ex
 ternen Dozent_innen durchgeführt werden.Die Veranstaltung beginnt am 20. 
 März um 10:30 Uhr (Anreise ab 10 Uhr möglich) in der Bundesakademie Wolf
 enbüttel (Standort Schünemanns Mühle) und endet am 21. März um 16:30 U
 hr. Übernachtungsmöglichkeiten sind für Sie reserviert. Falls Sie diese
  nicht benötigen, geben Sie das bitte bei Ihrer Anmeldung an. Sie werden 
 während der gesamten Fortbildungszeit vollverpflegt und die kostenlose Te
 ilnahme an den Fortbildungen ist durch die Programmfinanzierung des MWK, M
 K und der Stiftung Mercator möglich.Bei Rückfragen kontaktieren Sie bitt
 e Jacqueline Streit unter jacqueline.streit@bundesakademie.de
DTSTART:20190320T080000Z
DTEND:20190321T160000Z
END:VEVENT
END:VCALENDAR
