BEGIN:VCALENDAR
VERSION:2.0
PRODID:https://github.com/derhansen/sf_event_mgt
METHOD:PUBLISH
BEGIN:VEVENT
UID:1559-64@www.bundesakademie.de
CLASS: PUBLIC
SUMMARY:BarCamp »Mir nach!«
DESCRIPTION:Dieses Jubiläum möchten wir nutzen, um die inspirierenden Men
 schen, die sich in dieser Zeit fortgebildet haben, zusammenzubringen und d
 ie entstandenen Netzwerke enger zu knüpfen.Beim BarCamp »Mir nach!« von
  Freitagnachmittag bis Samstagmittag möchten wir miteinander ins Gespräc
 h kommen über aktuelle Entwicklungen, Fragestellungen und Impulse. Das Tr
 effen bietet einen geschützten Rahmen zum Austausch, Realitätsabgleich u
 nd Netzwerken über Führungs- und Arbeitsfragen (nicht nur) im Kulturbetr
 ieb und ist mit der Idee der Verstetigung in ähnlichen Formaten in den da
 rauffolgenden Jahren verbunden.Die inhaltliche Ausrichtung der beiden Tage
  wird wesentlich durch die Interessen, Erfahrungen, Anliegen und Fragestel
 lungen der Teilnehmer_innen bestimmt. Wir arbeiten in kollaborativen Forma
 ten und vertrauen auf die Schwarmintelligenz der Gruppe. Ausreichend Zeit 
 für den informellen Austausch in den Kaffeepausen, Platz zum Tanzen am Ab
 end und die Atmosphäre von Schünemanns Mühle tun ihr Übriges dazu, das
 s es zwei lohnende Tage voll spannender Begegnungen werden.Einen Rahmen ge
 staltet Lisa Unterberg – für die Inhalte sind wir gemeinsam verantwortl
 ich: bringt mit, was euch beschäftigt, teilt eure Erfahrungen und lasst u
 ns gemeinsam das Wissen heben, das in der Welt ist!– Teilnahme auf Einla
 dung –
LOCATION:Gästehaus
DTSTART:20240906T130000Z
DTEND:20240907T113000Z
END:VEVENT
END:VCALENDAR
