BEGIN:VCALENDAR
VERSION:2.0
PRODID:https://github.com/derhansen/sf_event_mgt
METHOD:PUBLISH
BEGIN:VEVENT
UID:1338-64@www.bundesakademie.de
CLASS: PUBLIC
SUMMARY:Basiskurs Erzählen IV
DESCRIPTION:Wenn diese Werkstatt einer Regel folgt, so lautet sie: »Erst l
 esen. Dann schreiben.« In unserem »Basiskurs Erzählen« achten wir auf 
 Feinheiten, um schrittweise Erzählformen zu verstehen und sie für das Sc
 hreiben besser zu nutzen. Unter Schwerpunkten wie Figuren, Perspektive, Di
 aloge, Stil und Dramaturgie nehmen wir in sechs Folgen die Prosa unter die
  Lupe.Der vierte Teil des Kurses beschäftigt sich mit dem Stil, der als G
 rundton ein Werk bestimmt. Welches Repertoire an Stilen gibt es? Was bedeu
 tet Stil auf der Wortebene, was auf der Ebene der Komposition? Fordern Gen
 res spezielle Stillagen? Wie finde ich langfristig meinen persönlichen St
 il? Im Vordergrund stehen die Arbeit mit Gegenwartsliteratur sowie Schreib
 übungen.Reichen Sie bitte mit Ihrer Anmeldung für den Reader einen Text 
 aus der eigenen Werkstatt ein (maximal 3 Normseiten). Diesen Text besprech
 en wir am Schlusstag knapp zehn Minuten in Hinblick auf »Stil«. Den Text
  bitte an:sabine.oehlmann@bundesakademie.de.Jedes Kursmodul können Sie ei
 nzeln buchen; wer alle sechs Module des Basiskurses besucht, erhält ein Z
 ertifikat.
LOCATION:Gästehaus
DTSTART:20230120T150000Z
DTEND:20230122T113000Z
END:VEVENT
END:VCALENDAR
