BEGIN:VCALENDAR
VERSION:2.0
PRODID:https://github.com/derhansen/sf_event_mgt
METHOD:PUBLISH
BEGIN:VEVENT
UID:1759-64@www.bundesakademie.de
CLASS: PUBLIC
SUMMARY:Bildung und Vermittlung im Museum
DESCRIPTION:»Museumspädagogik« oder aktueller: »Bildung und Vermittlung
  im Museum« meint all diejenigen Bemühungen und Maßnahmen, die das Muse
 um zum Ort der Kommunikation werden lassen. Damit ist die Bildung und Verm
 ittlung nicht Blinddarm, sondern vielmehr das Rückgrat eines ausgewachsen
 en Organismus; sie ist aktiver Teil von Planung und Realisation in einem k
 omplexen Gefüge.Bildung und Vermittlung widmet sich vielen Zielgruppen, w
 ählt alle möglichen Vorgehensweisen, nimmt verschiedene Formen an, bedie
 nt sich der unterschiedlichsten Mittel und Medien. Als eine eigenständige
  Pädagogik hat sie eigene Ziele, Inhalte, Methoden und Mittel.Dieses Semi
 nar führt Sie ein in die grundlegenden Themen und Arbeitsbereiche der Bil
 dung und Vermittlung im Museum:•	 Das Museum als Ort kultureller Bildung
 : Selbstverständnis, Aufgaben und Perspektiven der Museumspädagogik•	 
 Das Berufsbild »Museumspädagogik«, das Tätigkeitsfeld der »Bildung un
 d Vermittlung«•	 Die Prinzipien dieser vermittelnden Arbeit•	 Besuche
 r_innenbetreuung und Zielgruppenarbeit•	 Methoden und Formate personaler
  Vermittlung•	 Ausstellungsdidaktik und mediale Vermittlung•	 Partner,
  Förderer, Kolleg_innenEine Fortbildung in Zusammenarbeit mit dem Bundesv
 erband Museumspädagogik
LOCATION:Gästehaus
DTSTART:20250303T090000Z
DTEND:20250304T150000Z
END:VEVENT
END:VCALENDAR
