BEGIN:VCALENDAR
VERSION:2.0
PRODID:https://github.com/derhansen/sf_event_mgt
METHOD:PUBLISH
BEGIN:VEVENT
UID:1721-64@www.bundesakademie.de
CLASS: PUBLIC
SUMMARY:Camera Acting
DESCRIPTION:Â»Kamera ab! â€“ Kamera lÃ¤uft! â€“ Und Action!Â« Ist die Klapp
 e gefallen, beginnen die Darstellenden zu agieren â€“ was aber ist beim Sp
 iel vor der Kamera zu beachten? Axel Schreiber, klassisch ausgebildeter BÃ
 ¼hnen-Schauspieler, den es zu Film und Fernsehen zog, musste sich selbst m
 Ã¼hsam aneignen, worin die Unterschiede hier beim Spielen vor der Kamera l
 iegen. NatÃ¼rliches authentisch wirkendes Spiel statt Over-Acting ist eine
  Kunst, der wir uns hier annÃ¤hern wollen. In praktischen Ãœbungen  erarbe
 itet Axel mit uns die Grundlagen fÃ¼r die Filmarbeit mit SchÃ¼lerinnen und
  SchÃ¼lern.Das Vertiefungsseminar richtet sich in erster Linie an alle, di
 e die Qualifizierung Â»Filmbildung in der digitalen WeltÂ« f.k.a. TASCHENG
 ELDKINO zur Filmlehrerin/zum Filmlehrer durchlaufen haben. Freie PlÃ¤tze w
 erden unter den Ã¼brigen Anmeldungen nach angegebener Vorerfahrung verteil
 t. Kostenbeteiligung 125â‚¬ fÃ¼r LehrkrÃ¤fte an niedersÃ¤chsischen Schulen
  fÃ¼r Externe liegt die TeilnahmegebÃ¼hr bei 290â‚¬. Wir bitten um entspre
 chende Angaben bei der Anmeldung. Informationen Ã¼ber die Barrieresituatio
 n finden Sie unter https://www.bundesakademie.de/akademie/service/barriere
 freiheit/ 
LOCATION:GÃ¤stehaus
DTSTART:20250109T150000Z
DTEND:20250111T113000Z
END:VEVENT
END:VCALENDAR
