BEGIN:VCALENDAR
VERSION:2.0
PRODID:https://github.com/derhansen/sf_event_mgt
METHOD:PUBLISH
BEGIN:VEVENT
UID:2002-64@www.bundesakademie.de
CLASS: PUBLIC
SUMMARY:Demokratisch kuratieren
DESCRIPTION:Museen bewahren und präsentieren nicht nur Kunst, Kultur und G
 eschichte, sie vermitteln auch demokratische Werte wie Freiheit, Gleichhei
 t und Respekt. Als vertrauenswürdige Institutionen in einer pluralistisch
 en Gesellschaft können sie Vielfalt abbilden, kritische Reflexion anregen
  und kulturelle Teilhabe für alle ermöglichen. Transparenz, Partizipatio
 n und Meinungsfreiheit sind dabei Schlüsselprinzipien, die Museen in ihre
 r Arbeit im Inneren wie nach außen verankern können. Inklusive Ausstellu
 ngen, die marginalisierte Perspektiven einbeziehen, fördern den gesellsch
 aftlichen Dialog und stärken das kritische Denken – etwa zu Themen wie 
 Migration, Kolonialismus oder sozialer Ungleichheit.Die Ausstellung ist da
 s zentrale Medium, in dem Museen mit der Öffentlichkeit in Dialog treten.
  Eine demokratische Ausstellungspraxis erfordert die bewusste Reflexion un
 d Transparenz von Machtverhältnissen im kuratorischen Prozess. Sie bedeut
 et, etablierte Narrative zu hinterfragen, Vielstimmigkeit zuzulassen und B
 esuchende als aktive Teilnehmende ernst zu nehmen. So werden Ausstellungen
  zu Orten, an denen demokratische Aushandlungsprozesse erlebbar und gesell
 schaftliche Teilhabe gelebt wird. Der Workshop schärft die eigene Haltung
  zu demokratischen Werten im Museumskontext und vermittelt konkrete Method
 en und Tools, die unmittelbar in die eigene Ausstellungsarbeit einfließen
  können.In Impulsen, Gruppenarbeit und kollegialem Austausch setzen wir g
 emeinsam thematische Schwerpunkte, orientiert an den Erfahrungen und Frage
 stellungen der Teilnehmenden.Ablauf und InhalteTag 1: Begriffsklärung und
  gemeinsames VerständnisWas verbinden wir mit Demokratie? Welche konkrete
 n Werte und Prinzipien leiten uns? Wir reflektieren die Rahmenbedingungen 
 der museumsspezifischen Arbeit und fragen gemeinsam nach den Chancen, Gren
 zen und Herausforderungen einer demokratischen Ausstellungspraxis.Tag 2: M
 ethoden und Formate für die PraxisWelche Tools und Ansätze helfen, demok
 ratische Prinzipien in der kuratorischen Arbeit zu verankern? Wie lassen s
 ich partizipative und transparente Prozesse in Ausstellungen umsetzen? Wir
  erarbeiten konkrete Beispiele und erste Schritte für die eigene Institut
 ion.ZielgruppeDer Workshop richtet sich an Kurator_innen, Vermittler_innen
 , Volontär_innen und Führungskräfte im Museum sowie alle anderen, die i
 nhaltlich an der Entwicklung von Ausstellungen beteiligt sind.
LOCATION:Schloss
DTSTART:20261125T130000Z
DTEND:20261126T150000Z
END:VEVENT
END:VCALENDAR
