BEGIN:VCALENDAR
VERSION:2.0
PRODID:https://github.com/derhansen/sf_event_mgt
METHOD:PUBLISH
BEGIN:VEVENT
UID:1116-64@www.bundesakademie.de
CLASS: PUBLIC
SUMMARY:Der gute Plan: Konzepte fÃ¼r zielgruppengerechte FÃ¼hrungen
DESCRIPTION:Nicht immer gelingt es, bei FÃ¼hrungen das richtige MaÃŸ an Fac
 hinformation, Begeisterung und Unterhaltung zu finden.Die Folge sind unauf
 merksame Teilnehmer_innen. Diese und andere Stolpersteine lassen sich durc
 h zielgruppenorientierte Konzepte vermeiden. Anhand einer Konzept-Matrix a
 nalysieren Sie Ihr bestehendes oder geplantes Konzept, optimieren es und b
 ringen es zu Papier.Die Schwerpunkte des Seminars:â€¢	Grundlagen und Prinz
 ipienDas gute FÃ¼hrungskonzeptâ€¢	Der richtige DrehZielgruppenorientierte 
 Vermittlungsmethodenâ€¢	Abwechslung tut gutSinn(en)volles Begleitmaterialâ
 €¢	Wie komme ich auf IdeenKreativitÃ¤tsmethoden in Theorie und Praxis.Ange
 sprochen sind mit diesem Workshop MuseumspÃ¤dagog_innen mit grundstÃ¤ndige
 r Erfahrung in der Vermittlungsarbeit und mit Interesse an der Entwicklung
  eigenstÃ¤ndiger FÃ¼hrungskonzepte.
LOCATION:GÃ¤stehaus
DTSTART:20220710T130000Z
DTEND:20220712T103000Z
END:VEVENT
END:VCALENDAR
