BEGIN:VCALENDAR
VERSION:2.0
PRODID:https://github.com/derhansen/sf_event_mgt
METHOD:PUBLISH
BEGIN:VEVENT
UID:233-64@www.bundesakademie.de
CLASS: PUBLIC
SUMMARY:Der gute Plan: Zielgruppengerecht Führungen konzipieren
DESCRIPTION:Für Führungen durch Ausstellungen und museumspädagogische Be
 gleitungen ist eine passgenaue Struktur die unerlässliche Voraussetzung f
 ür den Erfolg eines Vermittlungsprogramms.Nicht immer gelingt es, bei Fü
 hrungen das richtige Maß an Fachinformation, Begeisterung und Unterhaltun
 g zu finden. Die Folge sind unaufmerksame Teilnehmer_innen. Diese und ande
 re Stolpersteine lassen sich durch zielgruppenorientierte Konzepte vermeid
 en.Anhand einer Konzept-Matrix analysieren Sie Ihr bestehendes oder geplan
 tes Konzept, optimieren es und bringen es zu Papier. Die Schwerpunkte des 
 Seminars:- Grundlagen und Prinzipien: Das gute Führungskonzept- Der richt
 ige Dreh: Zielgruppenorientierte Vermittlungsmethoden- Abwechslung tut gut
 : sinn(en)volles Begleitmaterial- Wie komme ich auf Ideen: Kreativitätsme
 thoden in Theorie und Praxis.Basis und Grundlagenseminar: Angesprochen sin
 d Museumspädagog_innen mit grundständiger Erfahrung in der Vermittlungsa
 rbeit und mit Interesse an der Entwicklung eigenständiger Führungskonzep
 te.
DTSTART:20190407T130000Z
DTEND:20190409T103000Z
END:VEVENT
END:VCALENDAR
