BEGIN:VCALENDAR
VERSION:2.0
PRODID:https://github.com/derhansen/sf_event_mgt
METHOD:PUBLISH
BEGIN:VEVENT
UID:1418-64@www.bundesakademie.de
CLASS: PUBLIC
SUMMARY:Des Pudels Kern,... ist violett
DESCRIPTION:Um sich nachvollziehbar mit anderen Ã¼ber die eigene Arbeit aus
 tauschen und diese vermitteln zu kÃ¶nnen, bedarf es der Klarheit Ã¼ber die
  eigene Position sowie das Fundament des Schaffens. Die Klausurwoche verbi
 ndet kÃ¼nstlerisch praktisches Arbeiten mit ReflexionsanlÃ¤ssen und prakti
 schen Ãœbungssequenzen, die den eigenen Ansatz schÃ¤rfen. Mit der kÃ¼nstle
 rischen Praxis vor Ort knÃ¼pfen wir an das bisherige Schaffen an und gehen
  in eine Wechselbewegung zwischen NÃ¤he und Distanz zum Entstehenden. In d
 er Analyse und persÃ¶nlichen Auseinandersetzung fokussieren wir uns auf di
 e vor Ort entstandenen Arbeiten. In GesprÃ¤chen mit dem Seminarleiter sowi
 e durch die Augen der anderen Teilnehmenden, schÃ¤len wir den Kern des eig
 enen Tuns heraus.Konkrete Ãœbungen weiten die gewohnten Sichtweisen und re
 gen die Auseinandersetzung mit neuen kÃ¼nstlerischen Regeln an. Was macht 
 die formalen und inhaltlichen Erscheinungsformen aus und wie kÃ¶nnen wir d
 ie Rezeption der eigenen Arbeit lenken? Welche kunstgeschichtlichen BezÃ¼g
 e sind fÃ¼r die Weiterentwicklung wertvoll und wie kÃ¶nnen wir diese im Sp
 rechen Ã¼ber das eigene Tun aufgreifen? Ausgehend von gewonnenen Stichwort
 en, erarbeiten wir Formulierungen und Texte, die die Selbstdarstellung stÃ
 ¤rken und fÃ¼r Ausstellungskontexte oder die eigene Website fruchtbar werd
 en. Beispiele aus Literatur und Musik reichern den Prozess an und erweiter
 n die Auseinandersetzung mit der eigenen Arbeit.Ob Malerei, Zeichnung, Pla
 stik, Installation oder Performance â€“ gern kÃ¶nnen Sie Materialien und W
 erkzeuge, mit denen Sie bevorzugt arbeiten, mitbringen.Bringen Sie darÃ¼be
 r hinaus bitte ein Beispiel einer kÃ¼nstlerischen Position mit, die fÃ¼r S
 ie von Interesse ist.Das Seminar ist ausgebucht. Wenn Sie Interesse haben 
 auf die Warteliste aufgenommen zu werden, schreiben Sie eine Mail an sarah
 .kuschel@bundesakademie.de
LOCATION:GÃ¤stehaus
DTSTART:20230716T140000Z
DTEND:20230722T103000Z
END:VEVENT
END:VCALENDAR
