BEGIN:VCALENDAR
VERSION:2.0
PRODID:https://github.com/derhansen/sf_event_mgt
METHOD:PUBLISH
BEGIN:VEVENT
UID:1103-64@www.bundesakademie.de
CLASS: PUBLIC
SUMMARY:Design Thinking: Phase I - IV
DESCRIPTION:Die MethodeÂ»Design ThinkingÂ« ist ein Instrument, das Sie bei 
 Ihrer Projektentwicklung mit digitalen Medien und Formaten unterstÃ¼tzen k
 ann.In diesem Webinar erfahren Sie zunÃ¤chst mehr Ã¼ber das Konzept des De
 sign Thinking-Prozesses, lernen dessen Grundlagen, Methoden und Anwendungs
 mÃ¶glichkeiten kennen und kÃ¶nnen sich am Ende dieser EinfÃ¼hrung den Nutz
 en, die MÃ¶glichkeiten und Perspektiven fÃ¼r Ihre eigene Arbeit klarer vor
  Augen fÃ¼hren.Das ZielSowohl im analogen als auch im digitalen Kontext be
 deutet Â»Design ThinkingÂ« in erster Linie, nutzerorientiert zu denken und
  zu handeln. Lineare und hierarchische Projektentwicklungsprozesse stoÃŸen
  dabei allerdings oft schnell an ihre Grenzen. Hier sind sehr viel mehr fl
 exible und agile Instrumente gefragt, die durch iteratives Vorgehen Erfahr
 ungen aus dem laufenden Projekt in den Entwicklungsprozess einflieÃŸen las
 sen. Das Ziel dabei: Es wird nur das entwickelt, was tatsÃ¤chlich von Nutz
 en und fÃ¼r alle Beteiligte weiterfÃ¼hrend ist.FÃ¼r die Praxis der gemeins
 amen Arbeitsprozesse bedeutet das, FreirÃ¤ume zu schaffen, die sowohl krea
 tives Denken als auch zielgerichtetes Handeln im Sinne der spÃ¤teren Nutze
 r_innen eines geplanten Projektes mÃ¶glich machen.Das FormatDiese Workshop
 -Reihe dient mit dem ersten Modul (19. Januar 2022) der EinfÃ¼hrung in das
  Konzept des Â»Design ThinkingÂ« und der dafÃ¼r notwendigen Â»TeamkulturÂ«
 , um im anschlieÃŸenden zweiten Workshop (26. Januar) Strategien der Umset
 zung zu dem Thema Â» Kollaborative Arbeits- und Lernumgebung im Digitalen 
 Â« kennenzulernen und zu erproben.Im dritten Workshop werden Sie anhand ex
 emplarischer Projektvorhaben aus Ihrer Praxis digital-kollaborative Format
 e entwickeln (02. Februar) und im Nachgang in ihren Arbeits- und Entwicklu
 ngsprozessen umsetzen.Um abschlieÃŸend im vierten Part (18. Februar) ihre 
 Ergebnisse und Erfahrungen aus der Umsetzung gemeinsam in Intervisionsgrup
 pen zu reflektieren und weiterzuentwickeln.Bitte beachten Sie: Diese Fortb
 ildung ist nur in allen vier Phasen buchbar, Einzelbuchungen sind nicht mÃ
 ¶glich.In den SeminargebÃ¼hren sind alle vier Phasen inklusive.
LOCATION:Online-Workshop
DTSTART:20220119T140000Z
DTEND:20220218T173000Z
END:VEVENT
END:VCALENDAR
