BEGIN:VCALENDAR
VERSION:2.0
PRODID:https://github.com/derhansen/sf_event_mgt
METHOD:PUBLISH
BEGIN:VEVENT
UID:1798-64@www.bundesakademie.de
CLASS: PUBLIC
SUMMARY:Diversität in Kultureinrichtungen
DESCRIPTION:Die Implementierung von Diversität stellt eine der bedeutendst
 en Herausforderungen dar, denen Kultureinrichtungen derzeit gegenübersteh
 en. Hierbei tragen die Hausleitungen eine besondere Verantwortung, was all
 gemein bekannt und durch zahlreiche Studien belegt ist. Dennoch besteht un
 ter den Hausleitungen unterschiedliches Verständnis darüber, was das kon
 kret für sie als Führungskräfte in der Praxis bedeutet – mit graviere
 nden Konsequenzen für den Erfolg des Vorhabens.Was müssen Hausleitungen 
 unternehmen, um den Diversitätsprozess erfolgreich auf- und umzusetzen? A
 n welchen Stellen ist ihre aktive Rolle besonders gefragt oder sogar notwe
 ndig?Diese und weitere Fragen bilden den Hintergrund für den Workshop. Me
 thodisch werden Inputanteile mit Diskussions- und Kleingruppenaustauschfor
 maten kombiniert.Weitere Themen• 	Unterschied zwischen Change-Maßnahmen
  und Transformationsprozessen•	 Diversität als Querschnittsaufgabe für
  die Kultureinrichtung•	 Strategien für DiversitätDer Workshop richtet
  sich explizit an Hausleitungen, die bereits Diversitätsprozesse eingelei
 tet haben oder diese initiieren wollen.ZeitrahmenMontag, 28. April 2025 | 
 10.00 – 14.00 UhrDienstag, 29. April 2025 | 10.00 – 14.00 Uhr(jeweils 
 mit Pausen)Die Veranstaltung findet über Zoom statt.Die Datenschutzrichtl
 inie für Zoom, dessen Anbieter seinen Sitz in den USA hat, finden Sie hie
 r:https://www.zoom.com/de/trust/privacy/privacy-statement
LOCATION:Online-Workshop
DTSTART:20250428T080000Z
DTEND:20250429T120000Z
END:VEVENT
END:VCALENDAR
