BEGIN:VCALENDAR
VERSION:2.0
PRODID:https://github.com/derhansen/sf_event_mgt
METHOD:PUBLISH
BEGIN:VEVENT
UID:167-64@www.bundesakademie.de
CLASS: PUBLIC
SUMMARY:Europe in perspective
DESCRIPTION:Nach einer erfolgreichen ersten Staffel geht es mit SCHULE:KULT
 UR!² in eine zweite dreijährige Programmlaufzeit. Das kulturelle Schulen
 twicklungsprogramm wird weiterhin gemeinsam vom Niedersächsischen Ministe
 rium für Wissenschaft und Kultur, dem Niedersächsischen Kultusministeriu
 m und der Stiftung Mercator innerhalb des Rahmenprogramms »Kreativpotenti
 ale« entwickelt und gefördert.
DTSTART:20190107T140000Z
DTEND:20190112T130000Z
END:VEVENT
END:VCALENDAR
