BEGIN:VCALENDAR
VERSION:2.0
PRODID:https://github.com/derhansen/sf_event_mgt
METHOD:PUBLISH
BEGIN:VEVENT
UID:1452-64@www.bundesakademie.de
CLASS: PUBLIC
SUMMARY:»Experiment Wissen. Wissenstransfer in der Kulturellen Bildung gemeinsam gestalten«
DESCRIPTION:
LOCATION:Gästehaus
DTSTART:20230316T140000Z
DTEND:20230318T120000Z
END:VEVENT
END:VCALENDAR
