BEGIN:VCALENDAR
VERSION:2.0
PRODID:https://github.com/derhansen/sf_event_mgt
METHOD:PUBLISH
BEGIN:VEVENT
UID:1705-64@www.bundesakademie.de
CLASS: PUBLIC
SUMMARY:Female Empowerment
DESCRIPTION:Um wirkungsvoll aufzutreten und unsere Ziele erreichen zu kÃ¶nn
 en, mÃ¼ssen wir daher nicht nur unseren Fokus verschieben, sondern brauche
 n auÃŸerdem Klarheit Ã¼ber das, was uns wichtig ist und was wir erreichen 
 wollen.In diesem Workshop lernen Sie, wie Sie sich Ihrer StÃ¤rken, Ziele u
 nd Werte bewusst werden und wie Sie diese innere Klarheit auch nach auÃŸen
  transportieren kÃ¶nnen. Sie verstehen, wie Sie kommunikative Spielregeln 
 von MÃ¤nnern und Frauen durchschauen und fÃ¼r sich nutzen.Inhalteâ€¢ SMART
 E Zieldefinition verstehen und anwendenâ€¢ Werte als persÃ¶nliche Leitmoti
 ve identifizierenâ€¢ mit EinwÃ¤nden des inneren Kritikers konstruktiv umge
 hen und die Stimme der innere Mentorin stÃ¤rkenâ€¢ Regeln der hierarchisch
 en und non-hierarchischen Kommunikation erkennen und anwendenâ€¢ wirkungsv
 oller Einsatz von Stimme und KÃ¶rperspracheâ€¢ Statement-Technik fÃ¼r klar
 e, prÃ¤gnante BotschaftenZieleâ€¢ sich der persÃ¶nlichen Ziele, Werte und 
 StÃ¤rken bewusst seinâ€¢ innere Barrieren erkennen, verstehen und auflÃ¶se
 nâ€¢ Kommunikation und Auftreten wirkungsvoll einsetzenâ€¢ Spielregeln in 
 Meetings erkennen und fÃ¼r sich nutzenMethodenâ€¢ Selbstreflexion/Journali
 ngâ€¢ Austausch in der Gruppeâ€¢ praktische Ãœbungen im Meetings- oder PrÃ
 ¤sentationssettingâ€¢ Reflexion eigener Arbeitssituationen fÃ¼r den geziel
 ten Transfer in den ArbeitsalltagZeitrahmenAm ersten Tag arbeiten Sie von 
 13.30 â€“ 21.00 Uhr, nur unterbrochen von Abendessen und Kaffeepausen.Am z
 weiten Tag arbeiten Sie von 9.00 â€“ 13.00 Uhr und gehen dann gemeinsam zu
 m Mittagessen.
LOCATION:GÃ¤stehaus
DTSTART:20241022T113000Z
DTEND:20241023T110000Z
END:VEVENT
END:VCALENDAR
