BEGIN:VCALENDAR
VERSION:2.0
PRODID:https://github.com/derhansen/sf_event_mgt
METHOD:PUBLISH
BEGIN:VEVENT
UID:1229-64@www.bundesakademie.de
CLASS: PUBLIC
SUMMARY:fest_halten und los_lassen - Zusatztermin
DESCRIPTION:Wie kann das prozesshafte Entstehen eines Werkstücks anspruchs
 voll dokumentiert werden und wie lassen sich soziale Erlebnisse »festhalt
 en«, die in künstlerischen Projekten oftmals eine zentrale Rolle spielen
 ? Anhand des Praxisbeispiels der Kunstschule PAULA- dem lebendigen Galerie
 raum in Worpswede, vermittelt das Seminar interaktiv die Potenziale eines 
 resonanten kunstvermittelnden Verständnisses von Dokumentation.Dokumentat
 ion bedeutet dabei viel mehr als etwas festzuhalten: Im ästhetischen Doku
 mentieren reflektieren wir, generieren wir Erkenntnis, schärfen unsere Wa
 hrnehmung und selektieren. Auch das Dokumentieren von Projekten kann also 
 analog/responsiv zu einem künstlerischen Prozess verstanden werden und ge
 staltet so den Projektverlauf mit.Der in der Kulturellen Bildung in jünge
 rer Zeit häufig verwendete Begriff der Resonanz wird im Seminar aufgegrif
 fen und steht für Beziehung, Bezugnahme und für die Schwingungen zwische
 n Begegnungsräumen, die sich öffnen.Aufbauend auf künstlerisch praktisc
 hen Erfahrungen zum Thema fest_halten und los_lassen, beschäftigen wir un
 s mit einem spezifischen Verständnis von ästhetischer (Projekt)dokumenta
 tion, das auf verschiedene Kontexte transferiert werden kann. Ein solches 
 Dokumentationsverständis ist kollaborativ und macht es möglich die Dokum
 entation als Teil der künstlerischen Praxis zu verstehen. Nicht die Vermi
 ttlung eines bestimmten, bestehenden Aufzeichnungsverfahrens steht somit i
 m Fokus des Seminars, sondern die begleitete eigenständige Entwicklung ei
 nes solchen Ansatzes. Eigene künstlerische Strategien können dabei Teil 
 einer zukünftigen Dokumentationspraxis werden.Das Seminar findet am 18. u
 nd 21. März  jeweils von 14.00 bis 19.30 Uhr statt.Das Seminar findet in 
 Kooperation mit dem Landesverband der Kunstschulen Niedersachsen statt.Tec
 hnische Voraussetzungen zur Teilnahme:Die technischen Voraussetzungen zur 
 Teilnahme sind ein stabiler Internet-Zugang, ein PC oder Notebook mit Tast
 atur, Mikrofon, Kamera sowie Lautsprechern (oder Kopfhörer). Der Kurs wir
 d über den Anbieter zoom.us angeboten. Zoom läuft browserbasiert bzw. mi
 t einer kleinen Installation, die direkt im Anmeldeprozess ausgeführt wir
 d. Den dafür notwendigen Link und weitere Informationen dazu erhalten Sie
  mit der Einladung zum Kurs von uns.
LOCATION:Online-Workshop
DTSTART:20220318T130000Z
DTEND:20220321T183000Z
END:VEVENT
END:VCALENDAR
