BEGIN:VCALENDAR
VERSION:2.0
PRODID:https://github.com/derhansen/sf_event_mgt
METHOD:PUBLISH
BEGIN:VEVENT
UID:1106-64@www.bundesakademie.de
CLASS: PUBLIC
SUMMARY:fest_halten und los_lassen
DESCRIPTION:Wie kann das prozesshafte Entstehen eines Werkstücks anspruchs
 voll dokumentiert werden und wie lassen sich soziale Erlebnisse »festhalt
 en«, die in künstlerischen Projekten oftmals eine zentrale Rolle spielen
 ? Anhand des Praxisbeispiels der Kunstschule PAULA- dem lebendigen Galerie
 raum in Worpswede, vermittelt das Seminar interaktiv die Potenziale eines 
 resonanten kunstvermittelnden Verständnisses von Dokumentation.Dokumentat
 ion bedeutet dabei viel mehr als etwas festzuhalten: Im ästhetischen Doku
 mentieren reflektieren wir, generieren wir Erkenntnis, schärfen unsere Wa
 hrnehmung und selektieren. Auch das Dokumentieren von Projekten kann also 
 analog/responsiv zu einem künstlerischen Prozess verstanden werden und ge
 staltet so den Projektverlauf mit.Der in der Kulturellen Bildung in jünge
 rer Zeit häufig verwendete Begriff der Resonanz wird im Seminar aufgegrif
 fen und steht für Beziehung, Bezugnahme und für die Schwingungen zwische
 n Begegnungsräumen, die sich öffnen.Aufbauend auf künstlerisch praktisc
 hen Erfahrungen zum Thema fest_halten und los_lassen, beschäftigen wir un
 s mit einem spezifischen Verständnis von ästhetischer (Projekt)dokumenta
 tion, das auf verschiedene Kontexte transferiert werden kann. Ein solches 
 Dokumentationsverständis ist kollaborativ und macht es möglich die Dokum
 entation als Teil der künstlerischen Praxis zu verstehen. Nicht die Vermi
 ttlung eines bestimmten, bestehenden Aufzeichnungsverfahrens steht somit i
 m Fokus des Seminars, sondern die begleitete eigenständige Entwicklung ei
 nes solchen Ansatzes. Eigene künstlerische Strategien können dabei Teil 
 einer zukünftigen Dokumentationspraxis werden.Das Seminar findet an beide
 n Tagen jeweils von 9.30 bis 15.00 Uhr statt.Das Seminar findet in Koopera
 tion mit dem Landesverband der Kunstschulen Niedersachsen statt.Technische
  Voraussetzungen zur Teilnahme:Die technischen Voraussetzungen zur Teilnah
 me sind ein stabiler Internet-Zugang, ein PC oder Notebook mit Tastatur, M
 ikrofon, Kamera sowie Lautsprechern (oder Kopfhörer). Der Kurs wird über
  den Anbieter zoom.us angeboten. Zoom läuft browserbasiert bzw. mit einer
  kleinen Installation, die direkt im Anmeldeprozess ausgeführt wird. Den 
 dafür notwendigen Link und weitere Informationen dazu erhalten Sie mit de
 r Einladung zum Kurs von uns.
LOCATION:Online-Workshop
DTSTART:20220311T083000Z
DTEND:20220312T140000Z
END:VEVENT
END:VCALENDAR
