BEGIN:VCALENDAR
VERSION:2.0
PRODID:https://github.com/derhansen/sf_event_mgt
METHOD:PUBLISH
BEGIN:VEVENT
UID:1739-64@www.bundesakademie.de
CLASS: PUBLIC
SUMMARY:Frauenpower
DESCRIPTION:Die Heldinnenreise hat sich mittlerweile als Alternative zur He
 ldenreise einen Platz im kreativen Schreiben erobert. Ausgehend von eher p
 sychologischen Fragen sind in letzter Zeit etliche Bücher erschienen, die
  das Plotmodell Heldinnenreise für neue Dramaturgien nutzen. Im Mittelpun
 kt der Geschichte steht dabei kein einsamer Held mehr, der auf Leben und T
 od kämpft und durch seine übergroße Aufgabe verwandelt wird, sondern di
 e vernetzte Heldin, bei der Kooperation und Kompromissfähigkeit Stärke b
 edeuten. In diesem Sinne gilt die Heldinnenreise als Narrativ der Zukunft.
 In unserer Werkstatt sehen wir uns an, was die Heldinnenreise von der Held
 enreise unterscheidet und wie wir sie für unsere eigenen Romane einsetzen
  können. Nach dem Konzept »Erst lesen, dann schreiben« betrachten wir W
 erke bekannter Autoren und Autorinnen, die nach diesem Modell verfasst sin
 d, und besprechen, wie sie Spannung und Dramaturgie aufbauen. Und nicht zu
 letzt probieren wir schreibend selbst aus, ob und wie weit sich die Heldin
 nenreise für unsere Romanprojekte eignet.Berichte aus der Praxis der Werk
 stattleiterin, Impulsvorträge und die Arbeit am eigenen Text wechseln sic
 h dabei ab.Nach dem Anmeldeschluss erhalten die Teilnehmerinnen und Teilne
 hmer eine Schreibaufgabe. Schicken Sie Ihren Text danach bitte an:sabine.o
 ehlmann@bundesakademie.de.
LOCATION:Gästehaus
DTSTART:20251026T150000Z
DTEND:20251028T113000Z
END:VEVENT
END:VCALENDAR
