BEGIN:VCALENDAR
VERSION:2.0
PRODID:https://github.com/derhansen/sf_event_mgt
METHOD:PUBLISH
BEGIN:VEVENT
UID:1170-64@www.bundesakademie.de
CLASS: PUBLIC
SUMMARY:Â»FÃ¼r alleÂ«!?
DESCRIPTION:Doch wer ist diese Gesellschaft, dieses Publikum? Die Frage, wi
 e das Personal einer (kulturellen) Organisation diese Begriffe fÃ¼r sich d
 eutet, operationalisiert und an ihr (potentielles) Publikum kommuniziert, 
 wird so zum Dreh- und Angelpunkt fÃ¼r den Zugang zu den eigenen Angeboten.
  Der Kommunikation kommt dabei eine tragende Rolle zu â€“ fungiert sie doc
 h als sichtbarer Vermittler zwischen den eigentlichen Inhalten und ihrer R
 ezeption.Im Rahmen dieses ganztÃ¤gigen Workshopformats legen wir einen Fok
 us auf diese kommunikative Ebene. Dabei verorten wir uns zunÃ¤chst begriff
 lich und ordnen aktuelle gesellschafts- und kulturpolitische Konzepte fÃ¼r
  die eigene TÃ¤tigkeit ein. Im Anschluss nÃ¤hern wir uns nationalen wie in
 ternationalen Beispielen und schauen uns an, wie das Zusammenspiel von Wor
 ding und visueller Gestaltung die Wahrnehmung, Nutzung und Planung eines k
 ulturellen Erlebnisses beeinflusst.Zeitrahmen10.00 â€“ 17.00 UhreinschlieÃ
 Ÿlich Mittagspause und KaffeepausenDie Veranstaltung findet Ã¼ber Zoom sta
 tt.Die Datenschutzrichtlinie fÃ¼r Zoom, dessen Anbieter seinen Sitz in den
  USA hat, finden Sie hier:https://zoom.us/docs/de-de/privacy-and-legal.htm
 l
LOCATION:ba unterwegs
DTSTART:20211125T090000Z
DTEND:20211125T160000Z
END:VEVENT
END:VCALENDAR
