BEGIN:VCALENDAR
VERSION:2.0
PRODID:https://github.com/derhansen/sf_event_mgt
METHOD:PUBLISH
BEGIN:VEVENT
UID:1593-64@www.bundesakademie.de
CLASS: PUBLIC
SUMMARY:g³-Methode | gemeinsam gesellschaft gestalten
DESCRIPTION:Online-Workshop in 6 Modulenjeweils donnerstags von 9.30 – 11
 .30 UhrImmer öfter zeigt sich, dass komplexe Herausforderungen in Kultur 
 oder Politik nicht mehr von einzelnen Personen oder Interessengruppen befr
 iedigend bewältigt werden. Nicht nur das Spektrum der Bedürfnisse nimmt 
 stetig zu, auch die traditionellen Formen der Entscheidungsfindung werden 
 zunehmend infrage gestellt. Im Kunst- und Kulturbereich wird intensiv an d
 er Frage gearbeitet, wie die gesamte Bevölkerung besser erreicht und stä
 rker in die inhaltlichen Auseinandersetzungen einbezogen werden kann. Aner
 kannte Studien belegen, dass diverser aufgestellte Teams oftmals kreativer
 , effektiver und somit auch erfolgreicher arbeiten. So stellt sich die Fra
 ge, wie Kulturinstitutionen Öffnung und Teilhabe entsprechend konstruktiv
  gestalten können.Die g³-Methode ist ein konkreter Vorschlag, wie Öffnu
 ng und Teilhabe unmittelbar angegangen werden können.Entwickelt hat die g
 ³-Methode (gemeinsam gesellschaft gestalten!) die Stiftung Genshagen im R
 ahmen von fünf KIWit-Denkwerkstätten »Kultur+Wirtschaft« am Jungen Sch
 auspiel Düsseldorf.Wie können wir gut miteinander arbeiten?Modul 1 • 1
 5. Februar 2024Finden Sie heraus, was Ihre individuellen Bedürfnisse für
  gute Teamarbeit sind: Was gibt es für Erfahrungen oder Ideen, um offen, 
 konstruktiv und kreativ miteinander tätig werden zu können?Wie erfahren 
 wir mehr über die Bedürfnisse anderer Menschen?Modul 2 • 22. Februar 2
 024Weil oft unklar ist, wer welche Bedürfnisse hat, ist es sinnvoll nachz
 ufragen. Schon ein paar Anregungen helfen, besser zuzuhören und genauer z
 u verstehen.Wie können wir die gewonnenen Einsichten nutzbar machen?Modul
  3 • 29. Februar 2024Wenn es um die Entwicklung eines Projekts geht, das
 s die Bedürfnisse einer Zielgruppe berücksichtigen soll, hilft es, minde
 stens eine Persona modellhaft als Stellvertreterin oder Stellvertreter zu 
 erarbeiten.Wie kommen wir zu neuen Ideen?Modul 4 • 7. März 2024Um zu ei
 ner guten Lösung zu finden, braucht es eine gute Frage, die auf konkreten
  Bedürfnissen basiert, und einen sportlichen Zeitplan zur Sammlung und Ve
 rdichtung Ihrer Gedanken und Einfälle.Wie können wir eine Idee erfahrbar
  machen?Modul 5 • 14. März 2024So großartig eine Idee auf den ersten B
 lick erscheint, so viel deutlicher zeigt die Weiterentwicklung zu einem an
 schaulichen Prototyp, ob an alles gedacht wurde und der entwickelte Ansatz
  wirklich funktionieren kann.Wie können wir unsere Idee testen, bevor es 
 ernst wird?Modul 6 • 21. März 2024Um frühzeitig zu erkennen, wie eine 
 Projektidee angenommen wird, liefert das Feedback von Außenstehenden wert
 volle Erkenntnisse: Eine gute Möglichkeit, Menschen einzuladen und kennen
 zulernen, deren Perspektiven und Meinungen Sie besonders interessieren!Wei
 tere Informationen zur g³-Methodehttps://www.g3-methode.deDie Veranstaltu
 ng findet über Zoom statt.Die Datenschutzrichtlinie für Zoom, dessen Anb
 ieter seinen Sitz in den USA hat, finden Sie hier:https://explore.zoom.us/
 de/trust/privacy
LOCATION:Online-Workshop
DTSTART:20240215T083000Z
DTEND:20240321T103000Z
END:VEVENT
END:VCALENDAR
