BEGIN:VCALENDAR
VERSION:2.0
PRODID:https://github.com/derhansen/sf_event_mgt
METHOD:PUBLISH
BEGIN:VEVENT
UID:1049-64@www.bundesakademie.de
CLASS: PUBLIC
SUMMARY:gÂ³-Methode | gemeinsam gesellschaft gestalten
DESCRIPTION:Online-Workshop in 6 Modulen jeweils montags von 18.00 â€“ 20.0
 0 Uhr:6. September 202113. September 202120. September 202127. September 2
 0214. Oktober 202111. Oktober 2021Die Stiftung Genshagen hat im Rahmen von
  fÃ¼nf KIWit-DenkwerkstÃ¤tten Â»Kultur+WirtschaftÂ« am Jungen Schauspiel D
 Ã¼sseldorf die gÂ³-Methode entwickelt (gemeinsam gesellschaft gestalten!).
  Inspiriert von der Innovationsmethode Design Thinking sind insgesamt 6 Pr
 ozessleitfÃ¤den fÃ¼r die Arbeit in heterogenen Gruppen entstanden, die zur
  praktischen Anwendung einladen.Immer Ã¶fter zeigt sich, dass komplexe Her
 ausforderungen in Kultur oder Politik nicht mehr von einzelnen Personen od
 er Interessengruppen befriedigend bewÃ¤ltigt werden. Nicht nur das Spektru
 m der BedÃ¼rfnisse nimmt stetig zu, auch die traditionellen Formen der Ent
 scheidungs-findung werden zunehmend infrage gestellt. Im Kunst- und Kultur
 bereich wird intensiv an der Frage gearbeitet, wie die gesamte BevÃ¶lkerun
 g besser erreicht und stÃ¤rker in die inhaltlichen Auseinandersetzungen ei
 nbezogen werden kann. Anerkannte Studien belegen, dass diverser aufgestell
 te Teams oftmals kreativer, effektiver und somit auch erfolgreicher arbeit
 en. So stellt sich die Frage, wie Kulturinstitutionen Ã–ffnung und Teilhab
 e entsprechend konstruktiv gestalten kÃ¶nnen.Die gÂ³-Methode ist ein konkr
 eter Vorschlag, wie Ã–ffnung und Teilhabe unmittelbar angegangen werden kÃ
 ¶nnen.Modul 1: Wie kÃ¶nnen wir gut miteinander arbeiten? Finden Sie heraus
 , was Ihre individuellen BedÃ¼rfnisse fÃ¼r gute Teamarbeit sind: Was gibt 
 es fÃ¼r Erfahrungen oder Ideen, um offen, konstruktiv und kreativ miteinan
 der tÃ¤tig werden zu kÃ¶nnen?Modul 2: Wie erfahren wir mehr Ã¼ber die BedÃ
 ¼rfnisse anderer Menschen?Weil oft unklar ist, wer welche BedÃ¼rfnisse hat
 , ist es sinnvoll nachzufragen. Schon ein paar Anregungen helfen, besser z
 uzuhÃ¶ren und genauer zu verstehen.Modul 3: Wie kÃ¶nnen wir die gewonnenen
  Einsichten nutzbar machen?Wenn es um die Entwicklung eines Projekts geht,
  dass die BedÃ¼rfnisse einer Zielgruppe berÃ¼cksichtigen soll, hilft es, m
 indestens eine Persona modellhaft als Stellvertreterin oder Stellvertreter
  zu erarbeiten.Modul 4: Wie kommen wir zu neuen Ideen?Um zu einer guten LÃ
 ¶sung zu finden, braucht es eine gute Frage, die auf konkreten BedÃ¼rfniss
 en basiert, und einen sportlichen Zeitplan zur Sammlung und Verdichtung Ih
 rer Gedanken und EinfÃ¤lle.Modul 5: Wie kÃ¶nnen wir eine Idee erfahrbar ma
 chen?So groÃŸartig eine Idee auf den ersten Blick erscheint, so viel deutl
 icher zeigt die Weiterentwicklung zu einem anschaulichen Prototyp, ob an a
 lles gedacht wurde und der entwickelte Ansatz wirklich funktionieren kann.
 Modul 6: Wie kÃ¶nnen wir unsere Idee testen, bevor es ernst wird?Um frÃ¼hz
 eitig zu erkennen, wie eine Projektidee angenommen wird, liefert das Feedb
 ack von AuÃŸenstehenden wertvolle Erkenntnisse: Eine gute MÃ¶glichkeit, Me
 nschen einzuladen und kennenzulernen, deren Perspektiven und Meinungen Sie
  besonders interessieren!Die Veranstaltung findet Ã¼ber Zoom statt.Die Dat
 enschutzrichtlinie fÃ¼r Zoom, dessen Anbieter seinen Sitz in den USA hat, 
 finden Sie hier:https://zoom.us/docs/de-de/privacy-and-legal.html
LOCATION:Online-Workshop
DTSTART:20210906T160000Z
DTEND:20211011T180000Z
END:VEVENT
END:VCALENDAR
