BEGIN:VCALENDAR
VERSION:2.0
PRODID:https://github.com/derhansen/sf_event_mgt
METHOD:PUBLISH
BEGIN:VEVENT
UID:1700-64@www.bundesakademie.de
CLASS: PUBLIC
SUMMARY:g³-Methode | gemeinsam gesellschaft gestalten
DESCRIPTION:Online-Workshop in 6 Modulen29. Oktober – 3. Dezember 2024 | 
 jeweils dienstags 9.00 – 11.00 UhrImmer öfter zeigt sich, dass komplexe
  Herausforderungen in Kultur oder Politik nicht mehr von einzelnen Persone
 n oder Interessengruppen befriedigend bewältigt werden. Nicht nur das Spe
 ktrum der Bedürfnisse nimmt stetig zu, auch die traditionellen Formen der
  Entscheidungsfindung werden zunehmend in Frage gestellt.Neben vielen aktu
 ellen Herausforderungen geht es im Kunst- und Kulturbereich nach wie vor u
 m die Frage, auf welche Weise viele unterschiedliche Menschen besser errei
 cht und stärker in die inhaltliche Arbeit einbezogen werden können. Aner
 kannte Studien belegen, dass diverser aufgestellte Teams oftmals kreativer
 , effektiver und somit auch erfolgreicher arbeiten, doch allzu oft scheite
 rt das Projekt Öffnung an vermeintlich mangelnden Ressourcen und einem Vo
 rgehen, das sich in Grundsatzdiskussionen verliert.Die g³-Methode ist ein
  konkreter Vorschlag, wie Öffnung und Teilhabe unmittelbar angegangen wer
 den können. Sie ist überraschend niedrigschwellig, ko-kreativ und besten
 s geeignet, ohne professionelle Moderation in jeweils einstündigen Worksh
 ops im Team zu konkreten Ergebnissen zu führen – im besten Fall direkt 
 ab nächster Woche ...Entwickelt hat die g³-Methode (gemeinsam gesellscha
 ft gestalten!) die Stiftung Genshagen im Rahmen von fünf KIWit-Denkwerkst
 ätten »Kultur+Wirtschaft« am Jungen Schauspiel Düsseldorf.Wie können 
 wir gut miteinander arbeiten?Modul 1 | 29. Oktober 2024Finden Sie heraus, 
 was Ihre individuellen Bedürfnisse für gute Teamarbeit sind: Was gibt es
  für Erfahrungen oder Ideen, um offen, konstruktiv und kreativ miteinande
 r tätig werden zu können?Wie erfahren wir mehr über die Bedürfnisse an
 derer Menschen?Modul 2 | 5. November 2024Weil oft unklar ist, wer welche B
 edürfnisse hat, ist es sinnvoll nachzufragen. Schon ein paar Anregungen h
 elfen, besser zuzuhören und genauer zu verstehen.Wie können wir die gewo
 nnenen Einsichten nutzbar machen?Modul 3 | 12. November 2024Wenn es um die
  Entwicklung eines Projekts geht, dass die Bedürfnisse einer Zielgruppe b
 erücksichtigen soll, hilft es, mindestens eine Persona modellhaft als Ste
 llvertreterin oder Stellvertreter zu erarbeiten.Wie kommen wir zu neuen Id
 een?Modul 4 | 19. November 2024Um zu einer guten Lösung zu finden, brauch
 t es eine gute Frage, die auf konkreten Bedürfnissen basiert, und einen s
 portlichen Zeitplan zur Sammlung und Verdichtung Ihrer Gedanken und Einfä
 lle.Wie können wir eine Idee erfahrbar machen?Modul 5 | 26. November 2024
 So großartig eine Idee auf den ersten Blick erscheint, so viel deutlicher
  zeigt die Weiterentwicklung zu einem anschaulichen Prototyp, ob an alles 
 gedacht wurde und der entwickelte Ansatz wirklich funktionieren kann.Wie k
 önnen wir unsere Idee testen, bevor es ernst wird?Modul 6 | 3. Dezember 2
 024Um frühzeitig zu erkennen, wie eine Projektidee angenommen wird, liefe
 rt das Feedback von Außenstehenden wertvolle Erkenntnisse: Eine gute Mög
 lichkeit, Menschen einzuladen und kennenzulernen, deren Perspektiven und M
 einungen Sie besonders interessieren!Weitere Informationen zur g³-Methode
 https://www.g3-methode.deDie Veranstaltung findet über Zoom statt.Die Dat
 enschutzrichtlinie für Zoom, dessen Anbieter seinen Sitz in den USA hat, 
 finden Sie hier:https://explore.zoom.us/de/trust/privacy
LOCATION:Online-Workshop
DTSTART:20241029T080000Z
DTEND:20241203T100000Z
END:VEVENT
END:VCALENDAR
