BEGIN:VCALENDAR
VERSION:2.0
PRODID:https://github.com/derhansen/sf_event_mgt
METHOD:PUBLISH
BEGIN:VEVENT
UID:1376-64@www.bundesakademie.de
CLASS: PUBLIC
SUMMARY:Grundlagen der Pressearbeit für Museen
DESCRIPTION:Was macht eine Nachricht aus?Warum wird über manches umfangrei
 ch berichtet, über anderes gar nicht?Wie kommen Informationen aus Ihrem H
 aus korrekt an die Öffentlichkeit und was brauchen Journalist*innen von I
 hnen, um präzise berichten zu können?Welche Formate eignen sich für wel
 che Nachrichten und welche Medien sollten Sie wählen, um die gewünschte 
 Verbreitung zu erzielen?Mit diesen Fragen und den folgenden Schwerpunkten 
 setzt sich dieser Workshop auseinander:·	 Von (falschen) Erwartungen: Jou
 rnalist_innen sind auch nur Menschen·	 Was Recht ist: Auskunftspflicht, S
 orgfaltspflicht und Richtigstellungen·	 Netzwerken: Erstkontakt, Verteile
 raufbau und Beziehungspflege·	 Tagesgeschäft: Wie beantworte ich Anfrage
 n richtig (Information, Bild, Interview, Stellungnahme)?·	 Aktiv Kommuniz
 ieren: Pressemitteilungen, Pressebilder und Einzelpitch·	 Fototermin oder
  Pressekonferenz: Wann lohnt sich was?·	 Medienpläne und Pressekits: Wie
  plane ich Kommunikation?·	 Krisenkommunikation: Was tun bei schlechter P
 resse?
LOCATION:Gästehaus
DTSTART:20230818T130000Z
DTEND:20230820T103000Z
END:VEVENT
END:VCALENDAR
