BEGIN:VCALENDAR
VERSION:2.0
PRODID:https://github.com/derhansen/sf_event_mgt
METHOD:PUBLISH
BEGIN:VEVENT
UID:1111-64@www.bundesakademie.de
CLASS: PUBLIC
SUMMARY:Grundlagen der Pressearbeit und Kommunikation fÃ¼r Museen
DESCRIPTION:Was macht eine Nachricht aus und warum wird Ã¼ber manches umfan
 greich berichtet, Ã¼ber anderes wiederum gar nicht?Wie kommen die Informat
 ionen aus Ihrem Haus korrekt an die Ã–ffentlichkeit und was brauchen Journ
 alist_innen von Ihnen, um prÃ¤zise berichten zu kÃ¶nnen?Welche Formate eig
 nen sich fÃ¼r welche Nachrichten und welche Medien sollten Sie wÃ¤hlen, um
  die gewÃ¼nschte Verbreitung zu erreichen?Mit diesen Fragen und den folgen
 den Schwerpunkten setzt sich unser Workshop auseinander:Â·	 Erwartungen be
 ider Seiten: Journalist_innen sind auch nur MenschenÂ·	 Was Recht ist: Aus
 kunftspflicht, Korrektur und RichtigstellungenÂ·	 Netzwerk: Erstkontakt, V
 erteileraufbau und KontaktpflegeÂ·	â€žPassiveâ€œ und aktive Pressearbeit: 
 Anfragen, Interviews, â€žAnfÃ¼tternâ€œ und Lancieren von BeitrÃ¤genÂ·	Foto
 termin oder Pressekonferenz: Wann lohnt sich was?Â·	MedienplÃ¤ne, Presseki
 ts, Pressemitteilungen: Wie plane ich Kommunikation?Â·	Krisenkommunikation
 : Was tun bei schlechter Presse?Â·	Digitale Pressearbeit: Welcher Inhalt a
 uf welchem Kanal?Bitte bringen Sie Unterlagen, EntwÃ¼rfe oder Beispiele fÃ
 ¼r Pressearbeit und/oder Kommunikationkonzepte aus Ihrem Haus bzw. aus Ihr
 em Arbeitsbereich mit, die im Seminar als Anschauungs- und Arbeitsmaterial
 ien hilfreich sein kÃ¶nnten.
LOCATION:GÃ¤stehaus
DTSTART:20220410T140000Z
DTEND:20220412T103000Z
END:VEVENT
END:VCALENDAR
