BEGIN:VCALENDAR
VERSION:2.0
PRODID:https://github.com/derhansen/sf_event_mgt
METHOD:PUBLISH
BEGIN:VEVENT
UID:1544-64@www.bundesakademie.de
CLASS: PUBLIC
SUMMARY:Hinaus ins Unbekannte!
DESCRIPTION:Das Genre Phantastik ist unglaublich vielseitig. Von hochgradig
  spannenden Plots bis zu gesellschaftlich brisanten Themen, von Dark Roman
 ce bis zu den politischen Stoffen einer Margaret Atwood â€“ es ist alles d
 enkbar und Vieles erlaubt. DarÃ¼ber hinaus suchen Phantastik-Leserinnen un
 d -Leser stÃ¤ndig nach neuen Stoffen, was das Genre fÃ¼r Verlage nach wie 
 vor attraktiv macht. All das sind GrÃ¼nde, warum angehende Autorinnen und 
 Autoren gern in der Phantastik debÃ¼tieren.In diesem Seminar fragen wir un
 s, wie man einen phantastischen Roman schreibt â€“ sei es nun das groÃŸe H
 igh-Fantasy-Epos in mehreren BÃ¤nden, der Near-Future-Thriller oder gar de
 r gesellschaftskritische Horrorroman. Wie kommt man von der Idee zum Plot,
  ohne sich in der Story zu verheddern? Steht beim Stoff der Weltenbau im V
 ordergrund oder geht es doch eher um Figuren, die Leserinnen und Leser mit
 reiÃŸen und mitleiden lassen? Welche Rolle spielen dabei Dialoge und Besch
 reibungen?Das Seminar richtet sich an alle, die eine Idee im Kopf haben, j
 edoch noch nicht genau wissen, wie sie diese Idee zu Papier bringen sollen
 . Und an alle, die bereits mitten in ihrer Geschichte stecken und Input fÃ
 ¼rs Vorankommen brauchen.Wir arbeiten vor allem mit den Texten der Teilneh
 mer und sehen uns Proben aus Romanen erfolgreicher Autorinnen und Autoren 
 an. Abgerundet wird das Seminar durch Einblicke in den Literaturbetrieb.Na
 ch dem Anmeldeschluss erhalten die Teilnehmerinnen und Teilnehmer eine Sch
 reibaufgabe. Schicken Sie Ihren Text danach bitte an:sabine.oehlmann@bunde
 sakademie.de.
LOCATION:GÃ¤stehaus
DTSTART:20241004T140000Z
DTEND:20241006T103000Z
END:VEVENT
END:VCALENDAR
