BEGIN:VCALENDAR
VERSION:2.0
PRODID:https://github.com/derhansen/sf_event_mgt
METHOD:PUBLISH
BEGIN:VEVENT
UID:1769-64@www.bundesakademie.de
CLASS: PUBLIC
SUMMARY:How to: Interne Kommunikation
DESCRIPTION:Dieses Seminar räumt die Rumpelkammer der Kommunikation richti
 g auf.Wir stellen eine Systematik an Kommunikationsanlässen vor, die jede
  Organisation betreffen und sortieren sinnvolle und effektive Formate ein.
  Wir geben Hilfestellung und klare Leitlinien zur Ausgestaltung einzelner 
 Formate: Wie organisiere ich ein Meeting? Was unterscheidet inhaltliche vo
 n organisatorischen Besprechungen? Wann hilft die Visualisierung unserer K
 ommunikation? Mit welchem Format verbessern wir Prozesse?Interne Kommunika
 tion ist der Hidden Champion der Transformation: hier liegt großes Potenz
 ial einen Veränderungsprozess zu starten. Denn Kommunikation und die zuge
 hörigen Formate können starke Treiber transformativer Prozesse sein. Mee
 tings spiegeln beispielsweise versteckte Machtstrukturen wider, Querulante
 n können in unorganisierten Besprechungen ihre volle Kraft entfalten und 
 digitale Besprechungen mit einem Bildschirm schwarzer Kacheln untergraben 
 jede Motivation. Das Gute ist: das lässt sich ändern.ZeitrahmenDienstag,
  18. März 2025 | 9.00 – 15.00 UhrMittwoch, 19. März 2025 | 9.00 – 15
 .00 Uhr(jeweils mit Mittags- und Kaffeepausen)Die Veranstaltung findet üb
 er Zoom statt.Die Datenschutzrichtlinie für Zoom, dessen Anbieter seinen 
 Sitz in den USA hat, finden Sie hier:https://explore.zoom.us/de/trust/priv
 acy
LOCATION:Online-Workshop
DTSTART:20250318T080000Z
DTEND:20250319T140000Z
END:VEVENT
END:VCALENDAR
