BEGIN:VCALENDAR
VERSION:2.0
PRODID:https://github.com/derhansen/sf_event_mgt
METHOD:PUBLISH
BEGIN:VEVENT
UID:1430-64@www.bundesakademie.de
CLASS: PUBLIC
SUMMARY:How to WWWissenstransfer
DESCRIPTION:
LOCATION:Online-Workshop
DTSTART:20230119T083000Z
DTEND:20230208T123000Z
END:VEVENT
END:VCALENDAR
