BEGIN:VCALENDAR
VERSION:2.0
PRODID:https://github.com/derhansen/sf_event_mgt
METHOD:PUBLISH
BEGIN:VEVENT
UID:1533-64@www.bundesakademie.de
CLASS: PUBLIC
SUMMARY:Immer wieder ich
DESCRIPTION:Autobiographisches Schreiben liegt im Trend. Viele Autorinnen u
 nd Autoren – von Karl Ove Knausgård bis Monika Helfer – bewegen sich 
 offenbar ungern in erfundenen Welten und greifen deshalb auf ihr eigenes L
 eben zurück. »Autofiktion« heißt das neue Zauberwort. Doch was bedeute
 t es, über sich selbst zu schreiben? Wie bekommt man dieses rätselhafte 
 Ich literarisch in den Griff? Wie entgehen Autorinnen und Autoren zudem de
 r Gefahr, eine bloße Nabelschau aufs Papier zu bringen? Und ist nicht auc
 h das Schreiben über das eigene Ich letztlich eine »Erfindung«?Die Werk
 statt geht diesen Fragen nach und nutzt dafür Textbeispiele aus der Weltl
 iteratur. In ausführlichen Gesprächen geht es darüber hinaus um die Tex
 te der Teilnehmerinnen und Teilnehmer.Lektüretipp: Annie Ernaux: Die Scha
 m.Nach dem Anmeldeschluss erhalten die Teilnehmerinnen und Teilnehmer eine
  Schreibaufgabe. Schicken Sie Ihren Text danach bitte an:sabine.oehlmann@b
 undesakademie.de.Lesung mit Rainer Moritz aus seinem »Buch zum Buch« am 
 8. April, 20 Uhr.
LOCATION:Gästehaus
DTSTART:20240407T140000Z
DTEND:20240409T103000Z
END:VEVENT
END:VCALENDAR
