BEGIN:VCALENDAR
VERSION:2.0
PRODID:https://github.com/derhansen/sf_event_mgt
METHOD:PUBLISH
BEGIN:VEVENT
UID:524-64@www.bundesakademie.de
CLASS: PUBLIC
SUMMARY:Impro-Theater Â»Theater DirektÂ«, Modul 1: Gemeinsam eine Geschichte erfinden
DESCRIPTION:Bei Theater Direkt, der 1968 von R.G. Gregory unter dem Namen Â
 »Instant TheatreÂ« entwickelten Form des Improvisationstheaters, Ã¼bernehm
 en die Zuschauer_innen (oder die Teilnehmenden einer Gruppe ab vier Jahren
 ) die inhaltliche Kontrolle und erfinden und spielen ihr StÃ¼ck selbst.Wie
  die Erfahrung des Jahres 2020 gezeigt hat, lÃ¤sst sich das Geschichtenerf
 inden und die anschlieÃŸende Schreibwerkstatt auch gut online mit Gruppen 
 durchfÃ¼hren.Die drei Online-Kurse des Workshops, die auch unabhÃ¤ngig von
 einander besucht werden kÃ¶nnen, geben eine praktische EinfÃ¼hrung in Form
  und Fragetechnik und erproben gemeinsam mit den Teilnehmer_innen MÃ¶glich
 keiten der theatralen Weiterarbeit mit einer neu entstandenen Geschichte.D
 adurch, dass die Seminare online stattfinden, erfahren die Teilnehmenden u
 nmittelbar selbst, wie sich der virtuelle Raum in der Praxis bewÃ¤hrt. Tei
 l der Kurse ist immer auch der gemeinsame Austausch darÃ¼ber, das Weiterge
 ben von Erfahrungen, Tipps und Tricks, das Weiterentwickeln und Erfinden.S
 elbstverstÃ¤ndlich lÃ¤sst sich das erworbene Wissen im analogen Probenallt
 ag (in dem die Methoden ursprÃ¼nglich entwickelt wurden) anwenden. Offen f
 Ã¼r Teilnehmer_innen mit oder ohne Improvisationserfahrung sowohl der schu
 lischen als auch der auÃŸerschulischen Bildungsarbeit. Angelehnt an das Bu
 ch Â»Theater Direkt â€“ das Theater der Zuschauer, ein Beitrag zur kollekt
 iven KreativitÃ¤tÂ« von Eva und Lorenz Hippe.- - - - - - -
LOCATION:Online-Workshop
DTSTART:20201012T160000Z
DTEND:20201012T183000Z
END:VEVENT
END:VCALENDAR
