BEGIN:VCALENDAR
VERSION:2.0
PRODID:https://github.com/derhansen/sf_event_mgt
METHOD:PUBLISH
BEGIN:VEVENT
UID:244-64@www.bundesakademie.de
CLASS: PUBLIC
SUMMARY:Inklusion und Barrierefreiheit im Museum
DESCRIPTION:Barrierefreiheit meint die Gestaltung der baulichen Umwelt sowi
 e von Informationsangeboten und Kommunikation dergestalt, dass sie auch vo
 n Menschen mit Beeinträchtigungen ohne zusätzliche Hilfen genutzt und wa
 hrgenommen werden können.Zu den zentralen Herausforderungen unserer Gesel
 lschaft gehört der Umgang mit Vielfalt und Diversität. Inklusion zielt a
 uf eine an den Menschenrechten orientierte Veränderung von Gesellschaft.I
 m Fokus steht hierbei nach UN-Behindertenrechtskonvention die kulturelle T
 eilhabe von Menschen mit Behinderung. Im weit gefassten Sinne geht es jedo
 ch um die Abschaffung von Barrieren für alle Menschen, denen keine angeme
 ssene Teilhabe möglich ist. Das Seminar beschäftigt sich mit den Grundla
 gen von Inklusion und Barrierefreiheit in musealen Einrichtungen, fragt na
 ch den Gelingensbedingungen vor und bietet praktische Beispiele und Erprob
 ungen. Dabei geht es nicht nur um additive Vermittlungsangebote, sondern a
 uch um ganz grundlegende Fragen der Haltung. Im Schwerpunkt dieses Seminar
 s stehen folgende Themen:- Die rechtlichen Grundlagen von Inklusion (UNBR)
  für das Museum- Barrierefreiheit: Worauf ist bei der Umsetzung von Barri
 erefreiheit zu achten (DIN-Normen etc.)? Wo liegen Hürden und wo liegen d
 ie Chancen?- Die Voraussetzungen/Eckpfeiler für das Gelingen von Inklusio
 n: Offenheit, Partizipation, Wertschätzung und Ressourcenorientiertheit- 
 Soziale Inklusion in der Museumsarbeit- Praxisphase mit Erprobungen: z. B.
  Schreibwerkstatt zur Leichten Sprache- Herausforderungen und Mehrwert von
  Inklusion.Dieses Seminar wird inhaltlich ergänzt durch das Seminar »Ink
 lusion und Barrierefreiheit im Museum II: Inklusion und Wandel«, das im F
 rühjahr 2020 sttfindet. Teilnehmende der ersten Veranstaltung zu diesem S
 chwerpunkt haben Priorität bei der Anmeldung zum Seminar II.
LOCATION:Gästehaus
DTSTART:20190907T140000Z
DTEND:20190909T103000Z
END:VEVENT
END:VCALENDAR
