BEGIN:VCALENDAR
VERSION:2.0
PRODID:https://github.com/derhansen/sf_event_mgt
METHOD:PUBLISH
BEGIN:VEVENT
UID:1631-64@www.bundesakademie.de
CLASS: PUBLIC
SUMMARY:K²-Beratung
DESCRIPTION:
LOCATION:Gästehaus
DTSTART:20240419T140000Z
DTEND:20240421T103000Z
END:VEVENT
END:VCALENDAR
