BEGIN:VCALENDAR
VERSION:2.0
PRODID:https://github.com/derhansen/sf_event_mgt
METHOD:PUBLISH
BEGIN:VEVENT
UID:1126-64@www.bundesakademie.de
CLASS: PUBLIC
SUMMARY:Kunst. Macht. Markt.
DESCRIPTION:»Online is the new normal.« - Die Welt ändert sich und damit
  die Art, wie Kunst vermittelt und Bilder gesehen werden. Das akute Galeri
 ensterben und der wachsende Anteil digital konsumierter Bildern bringen ra
 dikal neue Fragestellungen und Anforderungen an die Berufsrealitäten heut
 iger Künstler_innen. In einer Zeit, in der viele Kreative ihre künstleri
 sche Existenz in Frage stellen, zeigt dieser Workshop positive Beispiele a
 uf. So bieten neue Technologien etwa Möglichkeiten für Governancemodelle
 , die sich der Frage widmen, zu welchen Konditionen wir Kunstschaffenden a
 rbeiten wollen und welche Strukturen wir für unsere Arbeit selbst gestalt
 en, um uns souverän zu behaupten.Vermittelt werden allgemeine Kenntnisse 
 über das Berufsfeld des/der Künstler_in und Praktiken des globalen Kunst
 markts unter dem Aspekt der aktuellen digitalen Wende. Galerie 2.0, Künst
 leragentur, NFTs, kooperative Vernetzung, Social Media, Direktvertrieb?Im 
 Mittelpunkt des Seminars steht die Vorstellung und Diskussion konkreter un
 d inspirierender Beispiele aus der Praxis, die ganz unterschiedliche profe
 ssionelle Wege gehen. Diese fungieren als Impulse für Künstler_innen und
  Kunstschaffende, eigene Strategien und eine souveräne Haltung zu entwick
 eln.Das Seminar findet am 5. und 12. April jeweils von 9.30 Uhr bis 15 Uhr
  statt.Technische Voraussetzungen zur Teilnahme:Die technischen Voraussetz
 ungen zur Teilnahme sind ein stabiler Internet-Zugang, ein PC oder Noteboo
 k mit Tastatur, Mikrofon, Kamera sowie Lautsprechern (oder Kopfhörer). De
 r Kurs wird über den Anbieter zoom.us angeboten. Zoom läuft browserbasie
 rt bzw. mit einer kleinen Installation, die direkt im Anmeldeprozess ausge
 führt wird. Den dafür notwendigen Link und weitere Informationen dazu er
 halten Sie mit der Einladung zum Kurs von uns.
LOCATION:Online-Workshop
DTSTART:20220405T073000Z
DTEND:20220412T130000Z
END:VEVENT
END:VCALENDAR
