BEGIN:VCALENDAR
VERSION:2.0
PRODID:https://github.com/derhansen/sf_event_mgt
METHOD:PUBLISH
BEGIN:VEVENT
UID:1760-64@www.bundesakademie.de
CLASS: PUBLIC
SUMMARY:m USE um
DESCRIPTION:Im Werkstattseminar m use um um bauen wir Modelle für offene M
 useen. Dabei schauen wir auf den Kulturbegriff, lassen uns von verschieden
 en Kultureinrichtungen inspirieren, gehen an »Dritte Orte« und erproben 
 Methoden, um Museen für ein breites Publikum zu öffnen.Mit Good Practice
  Beispielen, vor allem aber durch das »Denken mit den Händen« und den f
 lankierenden kollegialen Austausch in der Gruppe entwickeln wir Museen, di
 e unsere Träume in die Wirklichkeit holen.Eine Visionswerkstatt für Muse
 umsmacher_innen, die ihre Häuser experimentierfreudig und lustvoll weiter
 entwickeln wollen.
LOCATION:Gästehaus
DTSTART:20250326T150000Z
DTEND:20250328T113000Z
END:VEVENT
END:VCALENDAR
