BEGIN:VCALENDAR
VERSION:2.0
PRODID:https://github.com/derhansen/sf_event_mgt
METHOD:PUBLISH
BEGIN:VEVENT
UID:191-64@www.bundesakademie.de
CLASS: PUBLIC
SUMMARY:Manipulation für alle! Wirklichkeiten gestalten
DESCRIPTION:Anscheinend werden wir ununterbrochen manipuliert: Die Bilder, 
 mit denen wir in Medien konfrontiert werden, sind ausgewählt, produziert 
 und bearbeitet. Jeder Film, jedes digitale Game, jede Berichterstattung in
  (sozialen) Medien ist unter spezifischen Rahmenbedingungen zustande gekom
 men und präsentiert eine gestaltete Facette der Wirklichkeit. In Filterbl
 asen und Echokammern findet zwischen Fake News und Botnetzen jede_r ihre/s
 eine eigene Realität – und manchmal auch nur noch die eigene Realität.
 \n\nAuf der anderen Seite tragen wir auch selbst dazu bei. Wir alle manipu
 lieren. Wir erzählen unsere Geschichte in und mit Medien: In Facebook-Pos
 ts, Instagram-Stories und YouTube-Videos. Wir kuratieren sorgfältig eine 
 Version unserer selbst, veröffentlichen sie – und gestalten damit ein S
 tück Wirklichkeit.\n\nMit welchen Mechanismen und Techniken können Bilde
 r, können Medien manipulieren? Wie wird man sensibel für diese Mechanism
 en? Das sollen die Teilnehmenden der Konferenz »Wirklichkeiten gestalten 
 – Manipulation für alle!« erleben, erforschen und selbst ausprobieren:
  In medienpraktischen Workshops zwischen Film, Social Media und Games soll
 en die Techniken, mit denen Wirklichkeiten gestaltet werden können, erfah
 rbar gemacht werden. In Teams schlüpfen die Teilnehmenden selbst spieleri
 sch und experimentell in die Rolle von Manipulator_innen, Meinungsmacher_i
 nnen und Kampagnenmanager_innen auf verschiedenen Seiten, erlernen das Han
 dwerk zum Gestalten von Wirklichkeiten – und werden damit sensibel für 
 und gestärkt gegen mediale Manipulation. Überraschende Wendungen und Per
 spektivwechsel inklusive.\n\nDie Veranstaltung richtet sich an Pädagog_in
 nen aller Fachrichtungen, Lehrende aller Schultypen, Fachkräfte der Jugen
 d(Medien)arbeit, Multiplikator_innen, Studierende und alle Interessierten.
 \n\nDas detaillierte Programm wird auf unserer Website veröffentlicht. La
 ssen Sie Ihr Interesse per E-Mail vormerken: joern.steinmann@bundesakademi
 e.de.\n\nIn Kooperation mit der LAG Jugend und Film
DTSTART:20190405T130000Z
DTEND:20190406T150000Z
END:VEVENT
END:VCALENDAR
