BEGIN:VCALENDAR
VERSION:2.0
PRODID:https://github.com/derhansen/sf_event_mgt
METHOD:PUBLISH
BEGIN:VEVENT
UID:1171-64@www.bundesakademie.de
CLASS: PUBLIC
SUMMARY:»Mit allen«!?
DESCRIPTION:Um dieses Aushandeln im Sinne »aller« zu gestalten, sind kult
 urelle Organisationen dazu angehalten, »allen« fähigen und interessiert
 en Personen Zugang zu ihren Arbeitsstellen zu ermöglichen. Diese Beziehun
 g spiegelt sich in Schlagworten wie »Diversität«, »Inklusion« oder »
 Repräsentation« wider und drückt sich auf arbeitsmarktpolitischer Ebene
  in Begriffen wie »Diversity Management«, »Inclusive Hearing« oder »C
 hancengerechtigkeit« aus.Doch wer ist diese Gesellschaft, dieses Personal
 ? Die Frage, wie Personalverantwortliche diese Begriffe für sich deuten, 
 für Bewerbungsverfahren und Arbeitsbedingungen operationalisieren und an 
 ein (potentielles) Personal kommunizieren, wird so zum Dreh- und Angelpunk
 t für den Zugang zu den eigenen Arbeitsstellen. Der Kommunikation kommt d
 abei eine tragende Rolle zu – fungiert sie doch als sichtbarer Vermittle
 r zwischen der eigentlichen Tätigkeit ihrer Ausgestaltung und ihrer Rahme
 nbedingungen.Im Rahmen dieses ganztägigen Workshopformates legen wir eine
 n Fokus auf diese kommunikative Ebene. Dabei verorten wir uns zunächst be
 grifflich und ordnen aktuelle gesellschafts- und arbeitsmarktpolitische Ko
 nzepte für die eigene Tätigkeit ein. Im Anschluss nähern wir uns nation
 alen wie internationalen Beispielen und schauen uns an, wie das Zusammensp
 iel von Wording und visueller Gestaltung die Wahrnehmung von Stellenangebo
 ten, die Arbeitstätigkeit selbst und die Planung von Rahmenbedingungen be
 einflusst.Zeitrahmen10.00 – 17.00 Uhreinschließlich Mittagspause und Ka
 ffeepausenDie Veranstaltung findet über Zoom statt.Die Datenschutzrichtli
 nie für Zoom, dessen Anbieter seinen Sitz in den USA hat, finden Sie hier
 :https://zoom.us/docs/de-de/privacy-and-legal.html
LOCATION:ba unterwegs
DTSTART:20211130T090000Z
DTEND:20211130T160000Z
END:VEVENT
END:VCALENDAR
