BEGIN:VCALENDAR
VERSION:2.0
PRODID:https://github.com/derhansen/sf_event_mgt
METHOD:PUBLISH
BEGIN:VEVENT
UID:1275-64@www.bundesakademie.de
CLASS: PUBLIC
SUMMARY:Online-Werkstatt Digitaltheater
DESCRIPTION:Die Ausdrucksformen des digitalen Theaters sind so vielfältig 
 wie seine Theatermacher_innen selbst. Nicht erst seit der pandemiebedingte
 n Schließung der Spielstätten wird mit Chatsystemen, Augmented Reality, 
 Social Media und Videokonferenzräumen Theater gemacht.Der Workshop richte
 t sich an Theatermacher_innen, Theaterpädagog_innen, Projektleiter_innen,
  und Lehrer_innen für Darstellendes Spiel, die an einer digitalen Ästhet
 ik interessiert sind, allerdings noch keine oder erst wenig Erfahrung auf 
 diesem Feld haben sowie auch an Kolleg_innen, die auf erste Anwendungserfa
 hrungen aufbauen wollen.Im Workshop werden konzentriert verschiedene Tools
  und Techniken ausprobiert, es wird getüftelt, getestet und gespielt. Die
  sich daraus ergebenden Möglichkeiten für die eigene Inszenierungsarbeit
  werden reflektiert, um die eigene Theaterpraxis ins Digitale erweitern bz
 w. erste digital-ästhetische Erkundungen vertiefen zu können.Keinerlei V
 orerfahrungen notwendig.Es gibt die Möglichkeit, technische Voraussetzung
 en (Hard- & Software, Plattformen, Apps etc) vorab mit unserem Tech-Suppor
 t zu klären und auszuprobieren. (Die Kontaktnummer wird mit der Einladung
  zum Workshop versandt.)Die Teilnahme von Studierenden der Hochschule für
  Bildende Künste Braunschweig (HBK) sowie des Fachbereiches II (Kulturwis
 senschaften und Ästhetische Kommunikation) der Universität Hildesheim wi
 rd durch die beiden Hochschulen gefördert.Anerkennung für Studierende de
 s Studienganges Darstellendes Spiel der Leibniz Universität Hannover im R
 ahmen ihres Studiums möglich.
LOCATION:Online-Workshop
DTSTART:20220916T140000Z
DTEND:20220917T103000Z
END:VEVENT
END:VCALENDAR
