BEGIN:VCALENDAR
VERSION:2.0
PRODID:https://github.com/derhansen/sf_event_mgt
METHOD:PUBLISH
BEGIN:VEVENT
UID:1640-64@www.bundesakademie.de
CLASS: PUBLIC
SUMMARY:PIMP YOUR DEMOCRATABILITY!
DESCRIPTION:Viele Kolleg_innen träumen lange schon davon, die Grenzen län
 gst obsoleter Theaterfolklore zu sprengen und die Theaterhäuser zu demokr
 atische(re)n Orten der Augenhöhe und der gleichberechtigten Kreativität 
 zu machen. Viele fragen sich: Wie kann es uns trotz monarchistischer Struk
 turen gelingen, durch eigenes (subversives) Handeln Demokratie auf und hin
 ter die Bühne zu bringen?In den Institutionen begegnen uns oft persönlic
 h herausfordernde, demokratierelevante Dilemmata in der Dynamik zwischen F
 ühren und Folgen, Macht(missbrauch) und Ohnmacht, Partizipation und Effiz
 ienz, Prozess- und Ergebnisorientierung. In unserem Seminar beschäftigen 
 wir uns mit Ansätzen und Verfahren, wie wir diese Dilemmata besser meiste
 rn und sie zu kreativen Antriebskräften für unsere eigene Arbeit umwande
 ln können.Aber auch in der Freien Szene ist das Thema von äußerster Rel
 evanz: Wie können wir in unserem künstlerischen Team oder unserem Kollek
 tiv noch demokratischer zusammenarbeiten? Im Seminar werden die Teilnehmen
 den erfahren, wieviel Luft da noch nach oben ist und sich neue Handlungsop
 tionen erschließen.In unserem zweitägigen Intensivkurs stehen demokratis
 che Verfahren und das entsprechende persönliche Verhaltensrepertoire im R
 ampenlicht. Wir wollen die Fragen beantworten: Wie geht Demokratie im pers
 önlichen Umfeld, im Theater, im Team? Wie demokratisch bin ich selbst?Und
  schließlich werden wir unsere neu erlangte persönliche Demokratiefähig
 keit auch gemeinsam auf ästhetische Potenziale untersuchen: Wie können w
 ir Freiheit, Teilhabe und Augenhöhe in unseren Programmen, Spielplänen, 
 Projekten und Formaten auch künstlerisch erfahrbar machen?Die BETZAVTA-Me
 thode des Adam-Institute for Democracy and Peace Jerusalem sensibilisiert 
 und ermächtigt mit praktischen, gruppendynamischen Übungen, kreativen An
 sätzen und viel Raum für Reflexion für gelingende demokratische Praxen.
  Mittels dieser praktischen Methode erarbeiten wir uns Kompetenzen, mit de
 nen wir in unseren jeweiligen Arbeitsbereichen dazu beitragen können, das
 s sich alte Strukturen und Gewohnheiten langsam aber stetig verändern und
  sich demokratische(re) Potenziale in jeder und jedem selbst, im Theater, 
 in künstlerischen Teams oder im Kollektiv zu entfalten beginnen.Das Semin
 ar richtet sich an in Theaterinstitutionen und frei arbeitende Künstler_i
 nnen und Vermittler_innen, an Lehrer_innen für Darstellendes Spiel, an in
  Kultur- und Theatermanagement sowie kulturpolitisch Tätige sowie an Proj
 ektleiter_innen im professionellen und semiprofessionellen Kontext. Inform
 ationen über die Barrieresituation finden Sie unter https://www.bundesaka
 demie.de/akademie/service/barrierefreiheit/ Mitglieder der GDBA erhalten 2
 0% Ermäßigung. Bitte geben Sie im Anmeldeprozess Ihre Mitgliedsnummer an
 .
LOCATION:Gästehaus
DTSTART:20241118T140000Z
DTEND:20241119T150000Z
END:VEVENT
END:VCALENDAR
