BEGIN:VCALENDAR
VERSION:2.0
PRODID:https://github.com/derhansen/sf_event_mgt
METHOD:PUBLISH
BEGIN:VEVENT
UID:1415-64@www.bundesakademie.de
CLASS: PUBLIC
SUMMARY:Podcasts als Wissensvermittlung
DESCRIPTION:Welt(en) zwischen den Ohren - PodcastsPer Klick ist in Wikipedi
 a Wissenswertes über die Geschichte dieses Kofferwortes zu erfahren - per
  iPod mobil zu hören und Broadcast als Garant für Qualitätskriterien. D
 och was genau macht ein Hörstück hörenswert?  Inmitten rasant aus aller
  Welt einströmender Bilderfluten und Klangkonstellationen bieten Features
  dramaturgisch inszenierte Worte und somit eine inspirierende Form der Wis
 sens-Vermittlung, der Begegnung mit bemerkenswerten Persönlichkeiten - ei
 n Hörerlebnis.Ob eine Institution vorgestellt oder porträtiert werden so
 ll oder eine Persönlichkeit, eine Veranstaltung angekündigt oder als Nac
 hklang bewahrt werden soll, Podcasts eignen sich als Multiplikator für in
 dividuelle Anliegen.Nichts ist so individuell wie die Stimme und das ist d
 as Hauptinstrument in diesem Zusammenspiel von Sichtweisen, Standpunkten, 
 Geräuschen und Klängen. Prägnant, kurzweilig und dem Tempo der Gegenwar
 t ein Ideechen trotzend sind Podcasts spätestens in Zeiten der Pandemie i
 n beinahe aller Munde und Ohren und halten Einzug in Institutionen, Konzer
 thäusern und diversen virtuellen Orten. Hören, wer was zu sagen hat!Vora
 ussetzung?Lust (s)ein Thema in ein Hörstück zu wandeln - denn lernbar is
 t in dem Workshop von der Aufnahme-Technik über Interview-Grundlagen, üb
 er die Auswertung und dramaturgische Gestaltung des Materials bis zum Eins
 prechen und technischen Feinschliff - kurz alles, was einen Podcast zu ein
 em Hörerlebnis werden lässt.Dozentin: Magdalene MelchersZeitraum: 8.-11.
  Juni 2023Kursgebühr: 380.- € incl. Ü/VP
LOCATION:Gästehaus
DTSTART:20230608T140000Z
DTEND:20230610T103000Z
END:VEVENT
END:VCALENDAR
