BEGIN:VCALENDAR
VERSION:2.0
PRODID:https://github.com/derhansen/sf_event_mgt
METHOD:PUBLISH
BEGIN:VEVENT
UID:589-64@www.bundesakademie.de
CLASS: PUBLIC
SUMMARY:Politisch? Phantastisch? Oder beides zugleich?
DESCRIPTION:Literatur spiegelt ihre Zeit, und das gilt insbesondere fÃ¼r di
 e phantastische Literatur. In Zeiten, in denen lauter Krisen unsere Welt i
 n ihren Grundfesten erschÃ¼ttern, fÃ¤llt dies umso mehr auf. In der Vergan
 genheit haben unsichere Zeiten stets die Produktion von Werken der Phantas
 tik befÃ¶rdert â€“ und dafÃ¼r gesorgt, dass man selbst Â»unpolitischeÂ« Li
 teratur plÃ¶tzlich politisch gelesen hat.In der RÃ¼ckschau bewegt sich dab
 ei die Kritik an den groÃŸen Werken phantastischer Literatur zwischen Â»re
 aktionÃ¤rÂ« und Â»Vehikel gesellschaftlicher wie technischer InnovationÂ«.
  H. P. Lovecraft und J. R. R. Tolkien auf der einen, Ursula K. LeGuin und 
 Margaret Atwood auf der anderen Seite sind nur einige Beispiele.Unsere Wer
 kstatt beschÃ¤ftigt sich mit Fragen wie: Ist jede Form der Phantastik poli
 tisch? Und was macht Â»guteÂ« politische Phantastik aus? Gibt es Regeln fÃ
 ¼r sie, und zwar unabhÃ¤ngig von politischen Ausrichtungen? Welche Themen 
 bieten sich derzeit fÃ¼r politische Phantastik an? Und ist die Phantastik,
  anders als Genres wie der Krimi, besser geeignet, um politisch zu schreib
 en?Um uns diesen Fragen zu nÃ¤hern, betrachten wir Werke der phantastische
 n Literatur und versuchen herauszufinden, wo politische Phantastik beginnt
 , wie sie funktioniert und wo ihre Grenzen sind. Schreibaufgaben zu Themen
  wie Welten- und Figurenbau oder dem Schreiben von Dialogen dienen dazu, d
 as Genre auszuprobieren und Feedback zu erhalten.Nach dem Anmeldeschluss e
 rhalten die Teilnehmerinnen und Teilnehmer eine Schreibaufgabe.Schicken Si
 e Ihren Text danach bitte an:christina.guenther@bundesakademie.de.
LOCATION:GÃ¤stehaus
DTSTART:20210903T140000Z
DTEND:20210905T103000Z
END:VEVENT
END:VCALENDAR
