BEGIN:VCALENDAR
VERSION:2.0
PRODID:https://github.com/derhansen/sf_event_mgt
METHOD:PUBLISH
BEGIN:VEVENT
UID:235-64@www.bundesakademie.de
CLASS: PUBLIC
SUMMARY:Präventive Konservierung
DESCRIPTION:Themenschwerpunkte des Intensivseminars:- Klimabedingungen: Luf
 tfeuchte, Temperatur, Klimamessung und Klimatisierung- Licht und Beleuchtu
 ng: Präventive Maßnahmen- Befall durch Schädlinge und Mikroorganismen: 
 Prävention und Bekämpfung- Staub und Schadstoffe im Objektumfeld- Präve
 ntion in Depot und Ausstellung- Notfallprävention und Notfallplanung- Sam
 mlungspflege
LOCATION:Gästehaus
DTSTART:20190527T080000Z
DTEND:20190528T140000Z
END:VEVENT
END:VCALENDAR
