BEGIN:VCALENDAR
VERSION:2.0
PRODID:https://github.com/derhansen/sf_event_mgt
METHOD:PUBLISH
BEGIN:VEVENT
UID:343-64@www.bundesakademie.de
CLASS: PUBLIC
SUMMARY:Prinzip Maus
DESCRIPTION:Warum wird Milch sauer? Was ist ein Feschaktum? Was sagen wir z
 um Klimawandel? Die Welt ist voller Fragen und Erklären seit jeher nötig
 . Aber nur wenigen gelingt das einfach und verständlich. Noch immer ist e
 s schick, knifflig zu formulieren. Studien voller Fremdwörter gelten als 
 »akademisch«, die anderen als »zu populär«. Muss das sein?Das Seminar
  wirbt für einfaches, aber nicht vereinfachendes Erklären. Das »Prinzip
  Maus«, seit fast fünfzig Jahren im Fernsehen bewährt, hilft dabei. Abh
 olen, Anschaulichkeit, Erklären durch Analogien, einfacher Satzbau und re
 izvolle Präsentation – das sind Stichworte für dieses »Prinzip«. Was
  sich dahinter verbirgt, zeigen Sachgeschichten aus der »Sendung mit der 
 Maus«.Ist das »Prinzip« verstanden, lösen die Teilnehmerinnen und Teil
 nehmer Erkläraufgaben und vermitteln die Ergebnisse der Gruppe – und zw
 ar sprachlich angemessen und unterhaltsam. Dabei geht es im Seminar vor al
 lem ums Ausprobieren und nicht um Theorie.Eingeladen sind Vermittler und S
 pezialisten aus allen Bereichen, die spielerisch eine allgemeinverständli
 che Sprache trainieren möchten.Öffentliche Veranstaltung mit Christoph B
 iemann am 15. Februar, 20 Uhr.
LOCATION:Gästehaus
DTSTART:20200214T150000Z
DTEND:20200216T113000Z
END:VEVENT
END:VCALENDAR
