BEGIN:VCALENDAR
VERSION:2.0
PRODID:https://github.com/derhansen/sf_event_mgt
METHOD:PUBLISH
BEGIN:VEVENT
UID:1380-64@www.bundesakademie.de
CLASS: PUBLIC
SUMMARY:Sammlungspflege und präventive Konservierung
DESCRIPTION:Themenschwerpunkte des Intensivseminars:• Klimabedingungen: L
 uftfeuchte, Temperatur, Klimamessung und Klimatisierung• Licht und Beleu
 chtung: Risiken und Schutzmaßnahmen• Befall durch Schädlinge und Mikro
 organismen: Prävention und Bekämpfung• Staub und Schadstoffe: Vermeidu
 ngsstrategien• Objektschutz: Im Depot, bei Transporten und in der Ausste
 llung• Notfallprävention und Notfallplanung• Das Sammlungspflegekonze
 pt: Inhalt, Struktur und Aufbau
LOCATION:Gästehaus
DTSTART:20230417T080000Z
DTEND:20230418T140000Z
END:VEVENT
END:VCALENDAR
