BEGIN:VCALENDAR
VERSION:2.0
PRODID:https://github.com/derhansen/sf_event_mgt
METHOD:PUBLISH
BEGIN:VEVENT
UID:478-64@www.bundesakademie.de
CLASS: PUBLIC
SUMMARY:SchuleGESTALTEN - Lernen verändert
DESCRIPTION:Der Kongress findet als Online-Format statt.
LOCATION:Online-Workshop
DTSTART:20210526T070000Z
DTEND:20210527T130000Z
END:VEVENT
END:VCALENDAR
