BEGIN:VCALENDAR
VERSION:2.0
PRODID:https://github.com/derhansen/sf_event_mgt
METHOD:PUBLISH
BEGIN:VEVENT
UID:1024-64@www.bundesakademie.de
CLASS: PUBLIC
SUMMARY:SCHULE:KULTUR! 2. Grundlagenmodul
DESCRIPTION:Zur Stärkung Ihrer Kooperation und Vorbereitung Ihrer gemeinsa
 men Projekte im Rahmen von SCHULE:KULTUR! laden wir Sie am 21.-22.04.21 he
 rzlich zum zweiten 2. Grundlagenmodul ein.In der digitalen Fortbildung erw
 arten Sie folgende Inhalte:
LOCATION:Online-Workshop
DTSTART:20210421T063000Z
DTEND:20210422T130000Z
END:VEVENT
END:VCALENDAR
