BEGIN:VCALENDAR
VERSION:2.0
PRODID:https://github.com/derhansen/sf_event_mgt
METHOD:PUBLISH
BEGIN:VEVENT
UID:1274-64@www.bundesakademie.de
CLASS: PUBLIC
SUMMARY:SCHULE:KULTUR! Reflexionsmodul
DESCRIPTION:Zu Beginn der Programmlaufzeit haben wir Sie in Grundlagenmodul
 en als Kooperationsteam fortgebildet, um Sie bestmÃ¶glich auf Ihre Zusamme
 narbeit und Ihren individuellen kulturellen Schulentwicklungsprozess vorzu
 bereiten.Nun, zum Ende der Projektlaufzeit, wollen wir zurÃ¼ckblicken und 
 gemeinsam reflektieren:- Wie verlief die Zusammenarbeit in Ihrer Kooperati
 on?- Konnten Ihre gemeinsamen Kooperationsvorhaben wie geplant umgesetzt w
 erden oder waren Anpassungen / Neuplanungen notwendig?- Zu welchen struktu
 rellen VerÃ¤nderungen hat SCHULE:KULTUR! bei Ihnen als teilnehmende Instit
 utionen gefÃ¼hrt?- War es Ihnen mÃ¶glich die angestrebten kulturellen Schu
 lentwicklungsprozesse zu initiieren?Zeitgleich mÃ¶chten wir mit Ihnen eine
 n Ausblick wagen und Ihre individuelle Weiterarbeit vorbereiten, denn fÃ¼r
  die Meisten von Ihnen geht der kulturelle Schulentwicklungsprozess und di
 e Zusammenarbeit mit Schul-/Kulturpartnern sicherlich weiter, ob im Rahmen
  von SCHULE:KULTUR! oder individuell gestaltet.Am Vorabend des Reflexionsm
 oduls erwartet Sie ab 18 Uhr:- ein gemeinsames Abendessen mit viel Raum fÃ
 ¼r informelle GesprÃ¤che- Einblicke in die angestoÃŸenen Prozesse der ande
 ren Kooperationsteams- Austausch und NetzwerkenDie Seminarzeiten am 01.07.
 : 09:00 â€“ 16:30 UhrWichtig: Bitte geben Sie bei der Anmeldung unter Â»Be
 merkungenÂ«, ob Sie auch am informellen Austausch am 30.06. teilnehmen und
  geben Sie an, ob Sie eine Ãœbernachtung bei uns wÃ¼nschen.Bei RÃ¼ckfragen
  wenden Sie sich bitte an jacqueline.streit[a]bundesakademie.de
LOCATION:GÃ¤stehaus
DTSTART:20220630T160000Z
DTEND:20220701T143000Z
END:VEVENT
END:VCALENDAR
