BEGIN:VCALENDAR
VERSION:2.0
PRODID:https://github.com/derhansen/sf_event_mgt
METHOD:PUBLISH
BEGIN:VEVENT
UID:1092-64@www.bundesakademie.de
CLASS: PUBLIC
SUMMARY:SCHULE:KULTUR! Wahlmodul II
DESCRIPTION:Kulturelle Bildung bietet Raum für unkonventionelle Ideen und 
 ermöglicht neue Perspektiven – für freie Experimentierräume und Gesta
 ltungsvielfalt. Die Kraft der Kulturellen Bildung vermag Irritation zu bef
 ördern, um sich vom Gewohnten zu lösen und Veränderungsprozesse anzusto
 ßen.In Ihrem Arbeitsalltag und im Zusammenwirken von Kultur und Schule vo
 llziehen sich Transformationsprozesse auf verschiedenen Ebenen. In diesem 
 Wahlmodul wollen wir Sie dazu einladen, sich mit ihren eigenen Transformat
 ionsprozessen und -wünschen auseinanderzusetzen – eingangs in einem kü
 nstlerisch-praktischen Prozess.Vertiefend bieten wir Ihnen am Nachmittag z
 wei Parallelworkshops an, in denen Sie sich mit Transformation auf systemi
 sch-organisationaler und auf inhaltlich-vermittelnder Ebene beschäftigen 
 können.Bitte geben Sie Ihren Workshopwunsch bereits bei der Anmeldung an.
LOCATION:Gästehaus
DTSTART:20211005T080000Z
DTEND:20211005T143000Z
END:VEVENT
END:VCALENDAR
