BEGIN:VCALENDAR
VERSION:2.0
PRODID:https://github.com/derhansen/sf_event_mgt
METHOD:PUBLISH
BEGIN:VEVENT
UID:1279-64@www.bundesakademie.de
CLASS: PUBLIC
SUMMARY:Showmutationen
DESCRIPTION:Ob Kochen, Late-Night, Talk oder Quiz: In diesem Workshop besch
 Ã¤ftigen wir uns mit demvielschichtigen PhÃ¤nomen der Show.Gemeinsam werde
 n wir befragen, was eine Show unterhaltsam macht, wie Auftritte gelingen u
 nd Dramaturgien scheitern kÃ¶nnen â€“ und was wir selbst eigentlich gerne 
 mal als Show sehen wÃ¼rden.Shows bedienen sich oftmals unterschiedlicher G
 enres und setzen sich wie ein Puzzle ausverschiedenen Einzelteilen zusamme
 n. Diese Prozesse der Neukontextualisierung wollen wir nicht nur analysier
 en, sondern praktisch erproben, wenn die Medien munter ineinandergreifen u
 nd wir die eh schon intermediale Konstellation der Show weiter mutieren la
 ssen.Der Workshop richtet sich an Theaterschaffende, PÃ¤dagog_innen, Lehre
 r_innen, die auf der Suche nach neuen Formaten sind und sich fÃ¼r die Entw
 icklung interdisziplinÃ¤rer Performances begeistern.In einem ersten Zoom-T
 reffen am Montag, den 07. November, von 18.00-20.00 Uhr, werden wir Forsch
 ungsfragen sammeln und die letztendliche Ausrichtung des Workshops gemeins
 am bestimmen. So kann z.B. der Schwerpunkt stÃ¤rker auf die konzeptuelle E
 rarbeitung von Shows gelegt oder aber die technische Umsetzung in den Foku
 s gestellt werden.In dem anschlieÃŸenden dreitÃ¤gigen Workshop vor Ort wol
 len wir ins Ausprobieren kommen, Showelemente auseinander nehmen, neu denk
 en und wieder anders zusammensetzen.Top, die Wette gilt!Die Teilnahme von 
 Studierenden der Hochschule fÃ¼r Bildende KÃ¼nste Braunschweig (HBK) sowie
  des Fachbereiches II (Kulturwissenschaften und Ã„sthetische Kommunikation
 ) der UniversitÃ¤t Hildesheim wird durch die beiden Hochschulen gefÃ¶rdert
 .Anerkennung fÃ¼r Studierende des Studienganges Darstellendes Spiel der Le
 ibniz UniversitÃ¤t Hannover im Rahmen ihres Studiums mÃ¶glich.Dieser Kurs 
 ist mit 16 U.-Std. anerkannt im BuT-zertifizierten Fortbildungsprogramm â€
 žSpielleitung im Amateurtheaterâ€œ bzw. â€žSchauspiel im Amateurtheaterâ€œ
  des BDAT im Modul â€žSchauspielâ€œ, Lehrinhalt Theaterformen I (Experimen
 telles Theater). Zudem wird der Kurs in der â€žZertifizierung Schauspielâ€
 œ im Lehrinhalt â€žTheaterformen Vâ€œ mit 16 U.-Std. anerkannt. Mitglieder
  des BDAT erhalten eine ErmÃ¤ÃŸigung in HÃ¶he von 10%. Bitte tragen Sie im
  Anmeldeformular im Feld â€žInstitutionâ€œ den Namen der MitgliedsbÃ¼hne u
 nd des Mitgliedsverbands im BDAT ein. Der Rabatt wird Ihnen dann bei Rechn
 ungsstellung gewÃ¤hrt.
LOCATION:GÃ¤stehaus
DTSTART:20221120T150000Z
DTEND:20221122T113000Z
END:VEVENT
END:VCALENDAR
