BEGIN:VCALENDAR
VERSION:2.0
PRODID:https://github.com/derhansen/sf_event_mgt
METHOD:PUBLISH
BEGIN:VEVENT
UID:318-64@www.bundesakademie.de
CLASS: PUBLIC
SUMMARY:Social Spots - das Gute wird siegen!
DESCRIPTION:Social Spots sollen Aufmerksamkeit für ein bestimmtes Thema we
 cken, wie Umweltschutz, Gleichberechtigung, Inklusion oder bürgerlichem E
 ngagement. Sie sind Statement zu einem gesellschaftlich relevanten Problem
  und Ausdruck einer möglichen Lösung.In den sozialen Medien, in Fernsehe
 n und Kino sind Social Spots präsent und sind dabei ergreifend, witzig od
 er unterhaltsam. Ob Trickfilme oder Realfilme, eins haben alle gemeinsam: 
 sie leben von einer wirklich guten, kreativen Idee.Im Workshop werden unte
 rschiedliche Ideenfindungsprozesse im praktischen Tun erprobt. Die Teilneh
 menden erwerben das nötige künstlerische und technische Know-How, um mit
  ihren individuellen Lerngruppen Social Spots erfinden, entwickeln und dre
 hen zu können.Angesprochen zur Teilnahme sind filmpraktisch Interessierte
 , die mit Kindern und Jugendlichen arbeiten, vor allem Lehrerinnen und Leh
 rer, die erfolgreich die Qualifizierung »TASCHENGELDKINO – Filmbildung 
 in der digitalen Welt« abgeschlossen haben.In Kooperation mit dem Nieders
 ächsischen Landesinstitut für schulische Qualitätsentwicklung (NLQ), un
 terstützt vom Medienzentrum der Region Hannover
LOCATION:Gästehaus
DTSTART:20200205T150000Z
DTEND:20200207T113000Z
END:VEVENT
END:VCALENDAR
