BEGIN:VCALENDAR
VERSION:2.0
PRODID:https://github.com/derhansen/sf_event_mgt
METHOD:PUBLISH
BEGIN:VEVENT
UID:1370-64@www.bundesakademie.de
CLASS: PUBLIC
SUMMARY:Theatrale Spaziergänge
DESCRIPTION:Audio- und Videowalks verbinden auf einzigartige Weise digitale
  und analoge Räume. Der Workshop gibt Einblicke in verschiedene Formen vo
 n Walks und deren Dramaturgien. Es werden Tools, mit denen sich eigene Wal
 ks strukturieren und hosten lassen, vorgestellt und ausprobiert. Schließl
 ich konzipieren und erlaufen die Teilnehmer_innen gemeinsam ihre eigenen t
 heatralen Spaziergänge durch Wolfenbüttel. Angesprochen sind alle Theate
 rmacher_innen, die sich auf digital-theatrale Weise den Stadtraum erschlie
 ßen wollen.
LOCATION:Gästehaus
DTSTART:20230120T150000Z
DTEND:20230122T113000Z
END:VEVENT
END:VCALENDAR
